Workbook

Sheet Data Input
A1: Hello beryl researcher! This spreadsheet is designed to help you determine the crystal structure of your sample just with your measured chemical composition. All you need to do is enter the chemical composition in Atoms Per Formula Unit into this spreadsheet, and we'll take it from there.
A4: Please make sure you know your Fe2+/Fe3+ and Li1+ content prior to entering in your data. We recommend the methods described in our paper, Henry et al. (202X) for normalizing your data and making these calculations, however, we know that some researchers may prefer to measure Li content, thus use different calculations. We also recommend assuming that Fe and Mn is trivalent in any red beryl, or beryl from a topaz rhyolite.
A8: Mg, Ni, and Zn are always assumed to be divalent. Fe must be entered as divalent or trivalent (divalent is more common). Fe in red beryl is always considered trivalent. Mn should be assumed as divalent unless the sample is a red beryl/from a topaz rhyolite, in which case it is trivalent. Sc, V, and Cr are always assumed to be trivalent.
A11: Elements are listed in an approximate order of prevalence as a substituting cation in beryl. There may be elements that you have measured which are not necessary for this spreadsheet. Please enter 0 for elements below detection limits or not measured.
A14: Please answer GRAY question boxes by selecting the option that describes your sample (only one should be selected "Yes").
A16: Be site | B16: Be (apfu) | C16: Li (apfu) | D16: Al site | E16: Al (apfu) | F16: Mg (apfu) | G16: Fe2+ (apfu) | H16: Fe3+ (apfu) | I16: Cr (apfu) | J16: V (apfu) | K16: Mn2+ (apfu) | L16: Mn3+ (apfu) | M16: Sc (apfu) | N16: Ni (apfu) | O16: Zn (apfu) | P16: Si site | Q16: Si (apfu) | R16: Na site (channel 2b) | S16: Na (apfu) | U16: Na2O (wt.%)
A17: Content
A19: Do you want assistance in estimating your Be/Li, and Fe3+/Fe2+? If so, please enter your extra values below, then enter the results above! Please note that this is not accounting for very rare trace elements in beryl. It also assumes Mn is divalent.
A22: Fe tot (apfu) | C22: Mn tot (apfu) | E22: K (apfu) | F22: Cs (apfu) | G22: Rb (apfu) | H22: Ca (apfu)
A25: Calculated Fe and Li | C25: Fe2+ (apfu) | E25: Fe3+ (apfu) | G25: Li (apfu) | H25: These will display zero if you did not decide to calculate Fe & Li in this sheet!
C26: =Calculations!AP3 -> 0 | E26: =Calculations!AO3 -> 0 | G26: =Calculations!AS3 -> 0

Sheet Results
A1: Congratulations beryl researcher! Here is structural information about your beryl sample, and the calculated water content based off your measured chemistry!
A3: The water content is calculated based on the recommendations of Henry et al. (2022). Water content for a sample with unknown color will be calculated based off the Na content, and decided as octahedral or tetrahedral based off calculations of this study.
A6: The position data can be used to plot the structure of your crystal.
B8: c/a ratio | C8: Classification by Aurissichio et al. 1988 | G8: Octahedrally or tetrahedrally trending as calculated in this spreadsheet | N8: V (Å^3) | O8: a (Å) | P8: c (Å) | Q8: Note that the a, c, and c/a parameters are calculated from observed trends described in Henry et al. (202X).
B9: {=IFERROR((_xlfn.IFS(AND(G9="Octahedrally Trending",Results!W35="Yes"),Calculations!J9,Calculations!E3="Octahedrally Trending",Calculations!F9,Calculations!E3="Tetrahedrally Trending",Calculations!B9))," ")} | C9: {=IFERROR((_xlfn.IFS(B9=" "," ",B9<0.9965, "Octahedral",0.9985<B9, "Tetrahedral", AND(0.9965<=B9,B9<=0.9985), "Normal"))," ")} | G9: =IFERROR((IF(Calculations!C3>Calculations!D3,"Octahedrally Trending","Tetrahedrally Trending"))," ") | N9: {=IFERROR((_xlfn.IFS(G9="Tetrahedrally Trending",Calculations!B10,AND(G9="Octahedrally Trending",W35="Yes"),Calculations!J10,G9="Octahedrally Trending",Calculations!F10))," ")} | O9: {=IFERROR((_xlfn.IFS(AND(G9="Octahedrally Trending",Results!W35="Yes"),Calculations!J7,G9="Octahedrally Trending",Calculations!F7,G9="Tetrahedrally Trending",Calculations!B7))," ")} | P9: {=IFERROR((_xlfn.IFS(AND(G9="Octahedrally Trending",Results!W35="Yes"),Calculations!J8,G9="Octahedrally Trending",Calculations!F8,G9="Tetrahedrally Trending",Calculations!B8))," ")}
B11: H2O (apfu) | D11: H2O (wt.%) | G11: Average M-site Ionic Radius (Å) | J11: Average T-site Ionic Radius (Å) | N11: d (g/cm^3) | P11: Be Polyhedral Volume (Å^3) | S11: Be Bond Angle Variance
B12: {=IFERROR((_xlfn.IFS(Results!W33="Yes",Calculations!Q7,Results!W34="Yes",Calculations!S7,Results!W35="Yes",Calculations!U7,Results!W36="Yes",Calculations!W7,Results!W37="Yes",Calculations!Y7,Results!W38="Yes",Calculations!AA7,OR(Results!W39="Yes",Results!W39=""),Calculations!AC7))," ")} | D12: {=IFERROR((_xlfn.IFS(Results!W33="Yes",Calculations!Q8,Results!W34="Yes",Calculations!S8,Results!W35="Yes",Calculations!U8,Results!W36="Yes",Calculations!W8,Results!W37="Yes",Calculations!Y8,Results!W38="Yes",Calculations!AA8,OR(Results!W39="Yes",Results!W39=""),Calculations!AC8))," ")} | G12: =IFERROR(Calculations!C3," ") | J12: =IFERROR(Calculations!B3," ") | N12: {=IFERROR((_xlfn.IFS(AND(G9="Octahedrally Trending",Results!W35="Yes"),Calculations!J49,G9="Octahedrally Trending",Calculations!F49,G9="Tetrahedrally Trending",Calculations!B49))," ")} | P12: {=IFERROR((_xlfn.IFS(G9="Tetrahedrally Trending",Calculations!B14,AND(G9="Octahedrally Trending",Results!W35="Yes"),Calculations!J14,G9="Octahedrally Trending",Calculations!F14))," ")} | S12: {=IFERROR((_xlfn.IFS(G9="Tetrahedrally Trending",Calculations!B15,AND(G9="Octahedrally Trending",W35="Yes"),Calculations!J15,G9="Octahedrally Trending",Calculations!F15))," ")}
B14: Element | C14: Position | G14: Interatomic Distances | K14: Interatomic Bond Angles | P14: Al Polyhedral Volume (Å^3) | S14: Al Bond Angle Variance
B15: Be | C15: x | D15: 0.5 | G15: Be(T)-O2 (Å) | I15: {=IFERROR((_xlfn.IFS(G9="Tetrahedrally Trending",Calculations!B20,AND(G9="Octahedrally Trending",W35="Yes"),Calculations!J20,G9="Octahedrally Trending",Calculations!F20))," ")} | K15: O2-Be-O2c | M15: {=IFERROR((_xlfn.IFS(G9="Tetrahedrally Trending",Calculations!B41,AND(G9="Octahedrally Trending",W35="Yes"),Calculations!J41,G9="Octahedrally Trending",Calculations!F41))," ")} | P15: {=IFERROR((_xlfn.IFS(G9="Tetrahedrally Trending",Calculations!B16,AND(G9="Octahedrally Trending",Results!W35="Yes"),Calculations!J16,G9="Octahedrally Trending",Calculations!F16))," ")} | S15: {=IFERROR((_xlfn.IFS(G9="Tetrahedrally Trending",Calculations!B17,AND(G9="Octahedrally Trending",W35="Yes"),Calculations!J17,G9="Octahedrally Trending",Calculations!F17))," ")}
B16: T-site | C16: y | D16: 0 | K16: O2-Be-O2d | M16: {=IFERROR((_xlfn.IFS(G9="Tetrahedrally Trending",Calculations!B42,AND(G9="Octahedrally Trending",W35="Yes"),Calculations!J42,G9="Octahedrally Trending",Calculations!F42))," ")}
C17: z | D17: 0.25 | G17: Al(M)-O2 (Å) | I17: {=IFERROR((_xlfn.IFS(G9="Tetrahedrally Trending",Calculations!B19,AND(G9="Octahedrally Trending",W35="Yes"),Calculations!J19,G9="Octahedrally Trending",Calculations!F19))," ")} | K17: O2-Be-O2e | M17: {=IFERROR((_xlfn.IFS(G9="Tetrahedrally Trending",Calculations!B43,AND(G9="Octahedrally Trending",W35="Yes"),Calculations!J43,G9="Octahedrally Trending",Calculations!F43))," ")} | P17: Si Polyhedral Volume (Å^3) | S17: Si Bond Angle Variance | V17: Si Distortion Index
P18: {=IFERROR((_xlfn.IFS(G9="Tetrahedrally Trending",Calculations!B11,AND(G9="Octahedrally Trending",W35="Yes"),Calculations!J11,G9="Octahedrally Trending",Calculations!F11))," ")} | S18: {=IFERROR((_xlfn.IFS(G9="Tetrahedrally Trending",Calculations!B12,AND(G9="Octahedrally Trending",W35="Yes"),Calculations!J12,G9="Octahedrally Trending",Calculations!F12))," ")} | V18: {=IFERROR((_xlfn.IFS(G9="Tetrahedrally Trending",Calculations!B13,AND(G9="Octahedrally Trending",W35="Yes"),Calculations!J13,G9="Octahedrally Trending",Calculations!F13))," ")}
B19: Al | C19: x | D19: 0.33333 | G19: Si-O1a (Å) | I19: {=IFERROR((_xlfn.IFS(AND(G9="Octahedrally Trending",Results!W35="Yes"),Calculations!J23,G9="Octahedrally Trending",Calculations!F23,G9="Tetrahedrally Trending",Calculations!B23))," ")} | K19: O2a-Al-O2f | M19: {=IFERROR((_xlfn.IFS(G9="Tetrahedrally Trending",Calculations!B45,AND(G9="Octahedrally Trending",W35="Yes"),Calculations!J45,G9="Octahedrally Trending",Calculations!F45))," ")}
B20: M-site | C20: y | D20: 0.66667 | G20: Si-O1b (Å) | I20: {=IFERROR((_xlfn.IFS(AND(G9="Octahedrally Trending",Results!W35="Yes"),Calculations!J24,G9="Octahedrally Trending",Calculations!F24,G9="Tetrahedrally Trending",Calculations!B24))," ")} | K20: O2a-Al-O2g | M20: {=IFERROR((_xlfn.IFS(G9="Tetrahedrally Trending",Calculations!B46,AND(G9="Octahedrally Trending",W35="Yes"),Calculations!J46,G9="Octahedrally Trending",Calculations!F46))," ")} | P20: The following guide may help determine what variety of beryl you have, if you do not know the color of your sample. This is not meant to be a certain identification, but can be used to help classify it.
C21: z | D21: 0.25 | G21: Si-O2 (Å) | I21: {=IFERROR((_xlfn.IFS(G9="Tetrahedrally Trending",Calculations!B25,AND(G9="Octahedrally Trending",W35="Yes"),Calculations!J25,G9="Octahedrally Trending",Calculations!F25))," ")} | K21: O2a-Al-O2h | M21: {=IFERROR((_xlfn.IFS(G9="Tetrahedrally Trending",Calculations!B47,AND(G9="Octahedrally Trending",W35="Yes"),Calculations!J47,G9="Octahedrally Trending",Calculations!F47))," ")}
B23: Si | C23: x | D23: {=IFERROR((_xlfn.IFS(AND(G9="Octahedrally Trending",Results!W35="Yes"),Calculations!J33,G9="Octahedrally Trending",Calculations!F33,G9="Tetrahedrally Trending",Calculations!B33))," ")} | G23: Na(2b)-O1 (Å) | I23: {=IFERROR((_xlfn.IFS(G9="Tetrahedrally Trending",Calculations!B26,AND(G9="Octahedrally Trending",W35="Yes"),Calculations!J26,G9="Octahedrally Trending",Calculations!F26))," ")} | K23: O1a-Si-O1b | M23: {=IFERROR((_xlfn.IFS(G9="Tetrahedrally Trending",Calculations!B28,AND(G9="Octahedrally Trending",W35="Yes"),Calculations!J28,G9="Octahedrally Trending",Calculations!F28))," ")} | P23: Based on the Mg & Fe content… | S23: =IF(AND('Data Input'!F17>SUM('Data Input'!G17:H17),SUM('Data Input'!G17:H17)<0.12),"sample could be emerald","sample could be aquamarine") -> sample could be aquamarine
B24: Si-site | C24: y | D24: {=IFERROR((_xlfn.IFS(AND(G9="Octahedrally Trending",Results!W35="Yes"),Calculations!J34,G9="Octahedrally Trending",Calculations!F34,G9="Tetrahedrally Trending",Calculations!B34))," ")} | G24: Ow(2a)-O2 (Å) | I24: {=IFERROR((_xlfn.IFS(G9="Tetrahedrally Trending",Calculations!B27,AND(G9="Octahedrally Trending",W35="Yes"),Calculations!J27,G9="Octahedrally Trending",Calculations!F27))," ")} | K24: O1a-Si-O2 | M24: {=IFERROR((_xlfn.IFS(G9="Tetrahedrally Trending",Calculations!B29,AND(G9="Octahedrally Trending",W35="Yes"),Calculations!J29,G9="Octahedrally Trending",Calculations!F29))," ")} | P24: Based on Fe content… | S24: =IF(AND('Data Input'!F17<SUM('Data Input'!G17:H17),SUM('Data Input'!G17:H17)<0.1),"sample could be aquamarine or heliodor","sample could be aquamarine") -> sample could be aquamarine
C25: z | D25: 0 | K25: O1b-Si-O2 | M25: {=IFERROR((_xlfn.IFS(G9="Tetrahedrally Trending",Calculations!B30,AND(G9="Octahedrally Trending",W35="Yes"),Calculations!J30,G9="Octahedrally Trending",Calculations!F30))," ")} | P25: Based on Cr & V content… | S25: =IF(OR('Data Input'!I17>0,'Data Input'!J17>0),"sample could be emerald","sample is likely not emerald") -> sample is likely not emerald
K26: O2-Si-O2 | M26: {=IFERROR((_xlfn.IFS(G9="Tetrahedrally Trending",Calculations!B31,AND(G9="Octahedrally Trending",W35="Yes"),Calculations!J31,G9="Octahedrally Trending",Calculations!F31))," ")} | P26: Based on the Mn content… | S26: {=_xlfn.IFS(SUM('Data Input'!K17:L17)>=0.01,"sample is likely red beryl",0.001<(SUM('Data Input'!K17:L17))<0.01,"sample could be morganite",SUM('Data Input'!K17:L17)<=0.001,"sample is unlikely to be red beryl or morganite")} -> sample is unlikely to be red beryl or morganite
B27: O1 | C27: x | D27: {=IFERROR((_xlfn.IFS(AND(G9="Octahedrally Trending",Results!W35="Yes"),Calculations!J35,G9="Octahedrally Trending",Calculations!F35,G9="Tetrahedrally Trending",Calculations!B35))," ")} | P27: Based on the Li content… | S27: =IF('Data Input'!C17>0.05,"sample is likely tetrahedral, and could be goshenite or morganite","sample is unlikely to be goshenite or morganite") -> sample is unlikely to be goshenite or morganite
C28: y | D28: {=IFERROR((_xlfn.IFS(AND(G9="Octahedrally Trending",Results!W35="Yes"),Calculations!J36,G9="Octahedrally Trending",Calculations!F36,G9="Tetrahedrally Trending",Calculations!B36))," ")} | P28: Based on the Na content… | S28: {=_xlfn.IFS('Data Input'!S17>=0.1, "H2O calculations and above statements are reliable", 'Data Input'!S17<0.1, "H2O calculations for octahedral trending beryl are less accurate and aquamarine vs heliodor is not well chemically distinguished")} -> H2O calculations for octahedral trending beryl are less accurate and aquamarine vs heliodor is not well chemically distinguished
C29: z | D29: 0
B31: O2 | C31: x | D31: {=IFERROR((_xlfn.IFS(AND(G9="Octahedrally Trending",Results!W35="Yes"),Calculations!J37,G9="Octahedrally Trending",Calculations!F37,G9="Tetrahedrally Trending",Calculations!B37))," ")} | P31: If you have distinct color information about your beryl, please select Yes here in appropriate box. This will change the equations used to calculate water content.
C32: y | D32: {=IFERROR((_xlfn.IFS(AND(G9="Octahedrally Trending",Results!W35="Yes"),Calculations!J38,G9="Octahedrally Trending",Calculations!F38,G9="Tetrahedrally Trending",Calculations!B38))," ")} | W32: Yes/No?
C33: z | D33: {=IFERROR((_xlfn.IFS(AND(G9="Octahedrally Trending",Results!W35="Yes"),Calculations!J39,G9="Octahedrally Trending",Calculations!F39,G9="Tetrahedrally Trending",Calculations!B39))," ")} | Q33: Vividly Green, or Green with a faint hint of blue (Emerald)?
Q34: Blue dominant color, even if only faintly so (Aquamarine)?
B35: Na | C35: x | D35: 0 | Q35: Red, or does it come from a topaz rhyolite (Red beryl)?
B36: 2b channel | C36: y | D36: 0 | Q36: Yellow, yellowish green, or greenish yellow (Heliodor)?
C37: z | D37: 0 | Q37: Colorless or white (Goshenite)?
Q38: Pink or pink-purple, pastel (Morganite)?
B39: Ow | C39: x | D39: 0 | Q39: Is the color of your beryl unknown?
B40: 2a channel | C40: y | D40: 0
C41: z | D41: 0.25

Sheet Graphs

Sheet Calculations
A1: Yes | V1: AIR: Average Ionic Radius
A2: No | B2: AIR T-site | C2: AIR M-Site | D2: Octa/Tetra Determination Value | E2: Octahedral/Tetrahedral? | G2: Ionic Radius as in Shannon (1976) | H2: Be | I2: Li | J2: Al | K2: Mg | L2: Fe2+ | M2: Fe3+ | N2: Cr | O2: V | P2: Mn2+ | Q2: Mn3+ | R2: Sc | S2: Ni | T2: Zn | V2: Be part of AIR T-site | W2: Li part of AIR T-site | X2: Al part of AIR M-site | Y2: Mg part of AIR M-site | Z2: Fe2+ part of AIR M-site | AA2: Fe3+ part of AIR M-site | AB2: Cr part of AIR M-site | AC2: V part of AIR M-site | AD2: Mn2+ part of AIR M-site | AE2: Mn3+ part of AIR M-site | AF2: Sc part of AIR M-site | AG2: Ni part of AIR M-site | AH2: Zn part of AIR M-site | AI2: M-site total | AJ2: T-site total | AM2: MonoSum | AN2: DivSum at M | AO2: Fe3+ | AP2: Fe2+ | AQ2: Channel sum | AR2: M sum w Fe | AS2: Li
B3: =SUM(V3:W3) -> #DIV/0! | C3: =SUM(X3:AH3) -> #DIV/0! | D3: =(B3*0.45)+0.414 -> #DIV/0! | E3: =IF(Calculations!C3>Calculations!D3,"Octahedrally Trending","Tetrahedrally Trending") -> #DIV/0! | H3: 0.27 | I3: 0.59 | J3: 0.535 | K3: 0.72 | L3: 0.78 | M3: 0.645 | N3: 0.615 | O3: 0.64 | P3: 0.83 | Q3: 0.645 | R3: 0.745 | S3: 0.69 | T3: 0.74 | V3: ='Data Input'!B17*(Calculations!H3/Calculations!AJ3) -> #DIV/0! | W3: ='Data Input'!C17*(Calculations!I3/Calculations!AJ3) -> #DIV/0! | X3: ='Data Input'!E17*(Calculations!J3/Calculations!$AI3) -> #DIV/0! | Y3: ='Data Input'!F17*(Calculations!K3/Calculations!$AI3) -> #DIV/0! | Z3: ='Data Input'!G17*(Calculations!L3/Calculations!$AI3) -> #DIV/0! | AA3: ='Data Input'!H17*(Calculations!M3/Calculations!$AI3) -> #DIV/0! | AB3: ='Data Input'!I17*(Calculations!N3/Calculations!$AI3) -> #DIV/0! | AC3: ='Data Input'!J17*(Calculations!O3/Calculations!$AI3) -> #DIV/0! | AD3: ='Data Input'!K17*(Calculations!P3/Calculations!$AI3) -> #DIV/0! | AE3: ='Data Input'!L17*(Calculations!Q3/Calculations!$AI3) -> #DIV/0! | ... AH3: ='Data Input'!O17*(Calculations!T3/Calculations!$AI3) -> #DIV/0! | AI3: =SUM('Data Input'!E17:O17) -> 0 | AJ3: ='Data Input'!B17+'Data Input'!C17 -> 0 | AM3: =SUM('Data Input'!S17,'Data Input'!E23,'Data Input'!F23,'Data Input'!G23) -> 0 | AN3: =SUM('Data Input'!F17,'Data Input'!A23:B23,'Data Input'!C23:D23,'Data Input'!N17,'Data Input'!O17) -> 0 | AO3: =IF((AN3-AM3)>0, (AN3-AM3),0) -> 0 | AP3: ='Data Input'!A23-Calculations!AO3 -> 0 | AQ3: =SUM('Data Input'!S17,'Data Input'!E23,'Data Input'!F23,'Data Input'!G23,2*'Data Input'!H23) -> 0 | AR3: =SUM('Data Input'!F17,'Data Input'!A23,'Data Input'!C23,'Data Input'!N17,'Data Input'!O17) -> 0 | AS3: =IF((AQ3-AR3)>0,(AQ3-AR3),0) -> 0
B6: Tetrahedrally Trending | F6: Octahedrally Trending | J6: Red, and must also be octahedral | Q6: Emerald | S6: Aquamarine | U6: Red Beryl | W6: Heliodor | Y6: Goshenite | AA6: Morganite | AC6: Unknown True | AE6: Unknown, Octahedral | AG6: Unknown, Tetrahedral
A7: a | B7: =(0.1099*B3)+9.1844 -> #DIV/0! | F7: =(1.3392*C3)+8.4921 -> #DIV/0! | J7: =(1.4611*C3)+8.4388 -> #DIV/0! | O7: H2O (apfu) | Q7: =(1.2928*'Data Input'!S17)+0.4218 -> 0.4218 | S7: =('Data Input'!S17*1.4386)+0.4012 -> 0.4012 | U7: 0 | W7: ~0.023-0.077 | Y7: =('Data Input'!S17*1.4016)+0.4183 -> 0.4183 | AA7: =('Data Input'!S17*1.6003)+0.3904 -> 0.3904 | AC7: {=_xlfn.IFS(E3="Tetrahedrally Trending",AG7,E3="Octahedrally Trending",AE7)} -> #DIV/0! | AE7: =('Data Input'!S17*1.3642)+0.4075 -> 0.4075 | AG7: =('Data Input'!S17*1.455)+0.4137 -> 0.4137
A8: c | B8: =(0.9053*B3)+8.9503 -> #DIV/0! | F8: =(0.1083*C3)+9.1359 -> #DIV/0! | J8: =(-0.1164*C3)+9.2631 -> #DIV/0! | O8: H2O (wt.%) | Q8: =('Data Input'!U17*0.7215)+1.4103 -> 1.4103 | S8: =('Data Input'!U17*0.8116)+1.3353 -> 1.3353 | U8: 0 | W8: ~0.85-2.21 | Y8: =('Data Input'!U17*0.7796)+1.3994 -> 1.3994 | AA8: =('Data Input'!U17*0.9124)+1.2846 -> 1.2846 | AC8: {=_xlfn.IFS(E3="Tetrahedrally Trending",AG8,E3="Octahedrally Trending",AE8)} -> #DIV/0! | AE8: =('Data Input'!U17*0.7672)+1.357 -> 1.357 | AG8: =('Data Input'!U17*0.8146)+1.3788 -> 1.3788
A9: c/a | B9: =(B3*0.0863)+0.9746 -> #DIV/0! | F9: =(-0.1324*C3)+1.0692 -> #DIV/0! | J9: =(-0.17*C3)+1.0888 -> #DIV/0! | AE9: VERIFY THESE - may need to yoink some points? Do I use the emerald/aqua and gosh/morg, or recalculate according to the trends presented here. Minor overlap issues.
A10: V | B10: =(15.322*B3)+673.14 -> #DIV/0! | F10: =(201.46*C3)+567.5 -> #DIV/0! | J10: =(206.69*C3)+566.85 -> #DIV/0!
A11: Si poly vol | B11: =(0.0224*B3)+2.1289 -> #DIV/0! | F11: =(0.1537*C3)+2.0504 -> #DIV/0! | J11: =(0.0679*C3)+2.1015 -> #DIV/0!
A12: Si BAV | B12: =(145.27*B3)-38.163 -> #DIV/0! | F12: =(65.525*C3)-33.822 -> #DIV/0! | J12: =(-13.242*C3)+8.6908 -> #DIV/0!
A13: Si dist ind | B13: =(-0.1415*B3)+0.0464 -> #DIV/0! | F13: =(-0.1119*C3)+0.0682 -> #DIV/0! | J13: =(0.0029*C3)+0.0064 -> #DIV/0!
A14: Be poly vol | B14: =(1.77*B3)+1.554 -> #DIV/0! | F14: =(0.7916*C3)+1.6097 -> #DIV/0! | J14: =(1.1459*C3)+1.4246 -> #DIV/0!
A15: Be BAV | B15: =(-273.3*B3)+404.39 -> #DIV/0! | F15: =(-1154*C3)+950.24 -> #DIV/0! | J15: =(-928.42*C3)+823.37 -> #DIV/0!
A16: Al poly vol | B16: =(1.2397*B3)+8.6197 -> #DIV/0! | F16: =(10.67*C3)+3.2135 -> #DIV/0! | J16: =(9.0823*C3)+4.1363 -> #DIV/0!
A17: Al BAV | B17: =(-213.68*B3)+132.71 -> #DIV/0! | F17: =(236.14*C3)-52.405 -> #DIV/0! | J17: =(154.86*C3)-7.1864 -> #DIV/0!
A19: Al-O2 | B19: =(0.0317*B3)+1.8984 -> #DIV/0! | F19: =(0.8193*C3)+1.4661 -> #DIV/0! | J19: =(0.6936*C3)+1.5391 -> #DIV/0!
A20: Be-O2 | B20: =(0.4011*B3)+1.5474 -> #DIV/0! | F20: =(-0.0588*C3)+1.6878 -> #DIV/0! | J20: =(0.084*C3)+1.6111 -> #DIV/0!
A23: Si-O1a | B23: =(0.2532*B3)+1.5253 -> #DIV/0! | F23: =(0.2636*C3)+1.452 -> #DIV/0! | J23: =(0.0331*C3)+1.5769 -> #DIV/0!
A24: Si-O1b | B24: =(0.2724*B3)+1.5236 -> #DIV/0! | F24: =(0.1962*C3)+1.4915 -> #DIV/0! | J24: =(-0.0107*C3)+1.6042 -> #DIV/0!
A25: Si-O2 | B25: =(-0.1935*B3)+1.674 -> #DIV/0! | F25: =(-0.1281*C3)+1.6899 -> #DIV/0! | J25: =(0.0217*C3)+1.6107 -> #DIV/0!
A26: Na(2b)-O1 | B26: =(-0.8825*B3)+2.8231 -> #DIV/0! | F26: =(-0.6166*C3)+2.9146 -> #DIV/0! | J26: =(0.1005*C3)+2.5311 -> #DIV/0!
A27: Ow(2a)-O2 | B27: =(-0.1573*B3)+4.2482 -> #DIV/0! | F27: =(0.0673*C3)+4.1683 -> #DIV/0! | J27: =(0.2075*C3)+4.0959 -> #DIV/0!
A28: O1a-Si-O1b bond angle | B28: =(-78.007*B3)+129.26 -> #DIV/0! | F28: =(-59.373*C3)+140.02 -> #DIV/0! | J28: =(5.1229*C3)+105.35 -> #DIV/0!
A29: O1a-Si-O2 bond angle | B29: =(-2.1612*B3)+109.07 -> #DIV/0! | F29: =(18.349*C3)+98.588 -> #DIV/0! | J29: =(4.268*C3)+106.15 -> #DIV/0!
A30: O1b-Si-O2 bond angle | B30: =(23.503*B3)+104.02 -> #DIV/0! | F30: =(4.346*C3)+108.09 -> #DIV/0! | J30: =(-0.2888*C3)+110.58 -> #DIV/0!
A31: O2-Si-O2 bond angle | B31: =(29.072*B3)+103.01 -> #DIV/0! | F31: =(12.023*C3)+104.43 -> #DIV/0! | J31: =(-12.87*C3)+117.82 -> #DIV/0!
A33: Si x | B33: =(0.0442*B3)+0.3755 -> #DIV/0! | F33: =(-0.0382*C3)+0.4081 -> #DIV/0! | J33: =(-0.0646*C3)+0.422 -> #DIV/0!
A34: Si y | B34: =(0.0786*B3)+0.0945 -> #DIV/0! | F34: =(-0.069*C3)+0.1531 -> #DIV/0! | J34: =(-0.0489*C3)+0.1419 -> #DIV/0!
A35: O1 x | B35: =(-0.126*B3)+0.344 -> #DIV/0! | F35: =(-0.1049*C3)+0.3662 -> #DIV/0! | J35: =(-0.028*C3)+0.3247 -> #DIV/0!
A36: O1 y | B36: =(-0.0445*B3)+0.2485 -> #DIV/0! | F36: =(-0.1234*C3)+0.3028 -> #DIV/0! | J36: =(-0.0449*C3)+0.2603 -> #DIV/0!
A37: O2 x | B37: =(-0.0209*B3)+0.5045 -> #DIV/0! | F37: =(-0.0777*C3)+0.5406 -> #DIV/0! | J37: =(-0.0628*C3)+0.5322 -> #DIV/0!
A38: O2 y | B38: =(0.029*B3)+0.1377 -> #DIV/0! | F38: =(-0.0719*C3)+0.1843 -> #DIV/0! | J38: =(-0.0482*C3)+0.1712 -> #DIV/0!
A39: O2 z | B39: =(-0.0063*B3)+0.1469 -> #DIV/0! | E39: NOTE the excel sheet may have goofed on the reds here. Try redoing perhaps? | F39: =(-0.0029*C3)+0.1468 -> #DIV/0! | J39: =(-0.0045*C3)+0.1477 -> #DIV/0!
A41: O2-Be-O2c | B41: =(3.4733*B3)+89.95 -> #DIV/0! | F41: =(35.474*C3)+71.825 -> #DIV/0! | J41: =(25.638*C3)+77.289 -> #DIV/0!
A42: O2-Be-O2d | B42: =(6.4392*B3)+107.12 -> #DIV/0! | F42: =(-6.1413*C3)+112.16 -> #DIV/0! | J42: =(-0.6837*C3)+109.19 -> #DIV/0!
A43: O2-Be-O2e | B43: =(-12.798*B3)+134.86 -> #DIV/0! | F43: =(-38.993*C3)+152.34 -> #DIV/0! | J43: =(-32.222*C3)+148.51 -> #DIV/0!
A45: O2a-Al-O2f | B45: =(-13.609*B3)+94.461 -> #DIV/0! | F45: =(-20.39*C3)+101.72 -> #DIV/0! | J45: =(-19.378*C3)+101.09 -> #DIV/0!
A46: O2a-Al-O2g | B46: =(23.021*B3)+70.227 -> #DIV/0! | F46: =(-14.487*C3)+84.275 -> #DIV/0! | J46: =(-8.5809*C3)+80.998 -> #DIV/0!
A47: O2a-Al-O2h | B47: =(-6.3681*B3)+98.457 -> #DIV/0! | F47: =(16.797*C3)+87.694 -> #DIV/0! | J47: =(13.252*C3)+89.694 -> #DIV/0!
A49: d (density) | B49: =(2.5919*B3)+1.9808 -> #DIV/0! | F49: =(1.363*C3)+1.9629 -> #DIV/0! | J49: =(-1.2083*C3)+3.3375 -> #DIV/0!
