Workbook

Sheet Cp
A1: Cp-Daten: Ferri-Copiapite | D1: gemessen: Juni 2016 | H1: Cp(PPMS) at 285 K | J1: 1413.7 | K1: (J/mol.K)
A2: MG = 1231.31 g/mol | H2: Cp(DSC) at 285 K | J2: 1403.1 | K2: (J/mol.K)
A4: PPMS1 | D4: DSC1 | G4: PPMS-DSC agreement at 285 K: | J4: =100*(J1-J2)/J2 -> 0.75547003 | K4: %
G5: 100(Cp(PPMS)-Cp(DSC))/Cp(DSC)
A6: 9.08 mg | B6: So (2-298 K) | C6: sigma-So
B7: 1456.5 | C7: 10.2
A9: T | B9: Cp | C9: sigma-Cp | D9: T | E9: Cp | F9: sigma-Cp
A10: (K) | B10: (J/mol.K) | C10: (J/mol.K) | D10: (K) | E10: (J/mol.K)
A12: 2.19213 | B12: 0.783291 | C12: 0.00538524 | D12: 280.22 | E12: 1379.7 | F12: 10.6416
A13: 2.21452 | B13: 0.775156 | C13: 0.00676182 | D13: 280.387 | E13: 1380.42 | F13: 10.2407
A14: 2.21484 | B14: 0.776223 | C14: 0.00614404 | D14: 280.553 | E14: 1381.16 | F14: 10.1309
A15: 2.38351 | B15: 0.712062 | C15: 0.00428919 | D15: 280.72 | E15: 1382.16 | F15: 10.3915
A16: 2.4028 | B16: 0.708065 | C16: 0.00484625 | D16: 280.883 | E16: 1382.99 | F16: 10.326
A17: 2.40325 | B17: 0.708595 | C17: 0.00479791 | D17: 281.05 | E17: 1384.03 | F17: 10.0515
A18: 2.5924 | B18: 0.657422 | C18: 0.00366579 | D18: 281.21 | E18: 1384.9 | F18: 9.48115
A19: 2.60967 | B19: 0.653755 | C19: 0.00375878 | D19: 281.377 | E19: 1385.77 | F19: 9.21915
A20: 2.60993 | B20: 0.653527 | C20: 0.00380741 | D20: 281.547 | E20: 1386.68 | F20: 9.09913
A21: 2.82044 | B21: 0.612277 | C21: 0.00286453 | D21: 281.71 | E21: 1387.39 | F21: 9.48705
A22: 2.83414 | B22: 0.609324 | C22: 0.0029406 | D22: 281.877 | E22: 1388.15 | F22: 9.69998
A23: 2.83451 | B23: 0.61127 | C23: 0.00302573 | D23: 282.043 | E23: 1388.7 | F23: 9.29634
... A60: 8.63125 | B60: 8.70686 | C60: 0.0252329 | D60: 288.167 | E60: 1421.18 | F60: 8.8714
A61: 8.63365 | B61: 8.7062 | C61: 0.0255505
A62: 8.63438 | B62: 8.74548 | C62: 0.0265626
A63: 9.42328 | B63: 11.4802 | C63: 0.0321713
A64: 9.42413 | B64: 11.5195 | C64: 0.033865
A65: 9.42639 | B65: 11.443 | C65: 0.0322075
A66: 10.2869 | B66: 14.8526 | C66: 0.0439034
A67: 10.2885 | B67: 14.7603 | C67: 0.0388596
A68: 10.2901 | B68: 14.7336 | C68: 0.0401932
A69: 11.2323 | B69: 18.766 | C69: 0.0532838
A70: 11.2354 | B70: 18.5805 | C70: 0.0483201
A71: 11.2367 | B71: 18.5219 | C71: 0.048319
A72: 12.2689 | B72: 22.9913 | C72: 0.0633361
... A185: 302.672 | B185: 1475.81 | C185: 3.96846

Sheet fits
A1: data ferricop-all.txt
A3: fit 1
A4: valid 0.0-15.0
A5: limit 0.0-9.5
A6: polynomial
A7: 1.0,1.4554861538053956
A8: 2.0,-0.7830090438219486
A9: 3.0,0.14661673596719993
A10: 4.0,-0.008690603629801785
A11: 5.0,0.0001765100253172669
A13: fit 2
A14: valid 5.0-120.0
... A43: EOF

Sheet S
A1: with 4 significant digits, for SI
A2: FUNCTION FIT | I2: CRUDE FIT
A3: T | B3: Cp | C3: H | D3: dH/T | E3: S | F3: G | G3: '-G/T | I3: T | J3: Cp | K3: H | L3: dH/T | M3: S | N3: G | O3: '-G/T | Q3: deltaK | R3: deltaCp | S3: deltaH | T3: deltadH/T | U3: deltaS | V3: deltaG | W3: delta(-G/T)
A4: K | B4: J/K | C4: J | D4: J/K | E4: J/K | F4: J | G4: J/K | I4: K | J4: J/K | K4: J | L4: J/K | M4: J/K | N4: J | O4: J/K | Q4: % | R4: % | S4: % | T4: % | U4: % | V4: % | W4: %
A5: 0 | B5: 0 | C5: 0 | D5: NaN | E5: 0 | F5: 0 | G5: NaN | I5: 0 | J5: 0 | K5: 0 | L5: NaN | M5: 0 | N5: 0 | O5: NaN
A6: 5 | B6: 1.149 | C6: 3.505 | D6: 0.701 | E6: 2.351 | F6: -8.251 | G6: 1.65 | I6: 5 | J6: 1.1912258 | K6: 2.9037014 | L6: 0.58074028 | M6: 1.0100484 | N6: -2.1465407 | O6: 0.42930814 | Q6: 0 | R6: -3.6750033 | S6: 17.155453 | T6: 17.155453 | U6: 57.037498 | V6: 73.984478 | W6: 73.981325
A7: 9.5 | B7: 11.74 | C7: 27.58 | D7: 2.904 | E7: 5.431 | F7: -24.01 | G7: 2.527
A8: *** reached the upper limit of function: fit 1
A9: 9.5 | B9: 11.73 | C9: 27.58 | D9: 2.904 | E9: 5.431 | F9: -24.01 | G9: 2.527
A10: 10 | B10: 13.55 | C10: 33.9 | D10: 3.39 | E10: 6.079 | F10: -26.88 | G10: 2.688 | I10: 10 | J10: 13.715816 | K10: 33.310295 | L10: 3.3310295 | M10: 4.7262363 | N10: -13.952067 | O10: 1.3952067 | Q10: 0 | R10: -1.2237323 | S10: 1.7395415 | T10: 1.7395415 | U10: 22.253064 | V10: 48.094989 | W10: 48.094989
A11: 15 | B11: 34.66 | C11: 152.8 | D11: 10.19 | E11: 15.43 | F11: -78.67 | G11: 5.245 | I11: 15 | J11: 34.526778 | K11: 153.37262 | L11: 10.224841 | M11: 14.160746 | N11: -59.038576 | O11: 3.9359051 | Q11: 0 | R11: 0.38436896 | S11: -0.37474938 | T11: -0.34191499 | U11: 8.2258831 | V11: 24.954142 | W11: 24.958911
A12: 20 | B12: 58.51 | C12: 384.8 | D12: 19.24 | E12: 28.62 | F12: -187.5 | G12: 9.376 | I12: 20 | J12: 58.018651 | K12: 383.22755 | L12: 19.161377 | M12: 27.214482 | N12: -161.06209 | O12: 8.0531045 | Q12: 0 | R12: 0.83976913 | S12: 0.4086421 | T12: 0.4086421 | U12: 4.9109652 | V12: 14.100219 | W12: 14.10938
A13: 25 | B13: 84.83 | C13: 742 | D13: 29.68 | E13: 44.45 | F13: -369.2 | G13: 14.77 | I13: 25 | J13: 85.49557 | K13: 739.44912 | L13: 29.577965 | M13: 42.987406 | N13: -335.23602 | O13: 13.409441 | Q13: 0 | R13: -0.78459294 | S13: 0.34378408 | T13: 0.34378408 | U13: 3.290426 | V13: 9.1993448 | W13: 9.2116401
A14: 30 | B14: 114.2 | C14: 1238 | D14: 41.28 | E14: 62.46 | F14: -635.6 | G14: 21.19 | I14: 30 | J14: 114.04216 | K14: 1233.6954 | L14: 41.12318 | M14: 60.914993 | N14: -593.7544 | O14: 19.791813 | Q14: 0 | R14: 0.13821175 | S14: 0.34770657 | T14: 0.379894 | U14: 2.4735942 | V14: 6.5836375 | W14: 6.5983325
A15: 35 | B15: 146.5 | C15: 1889 | D15: 53.97 | E15: 82.46 | F15: -997.2 | G15: 28.49 | I15: 35 | J15: 147.30651 | K15: 1887.1386 | L15: 53.918247 | M15: 80.982079 | N15: -947.23411 | O15: 27.063832 | Q15: 0 | R15: -0.5505207 | S15: 0.098536853 | T15: 0.095892488 | U15: 1.7922889 | V15: 5.0106187 | W15: 5.0058557
A16: 40 | B16: 180.7 | C16: 2707 | D16: 67.66 | E16: 104.2 | F16: -1463 | G16: 36.58 | I16: 40 | J16: 180.39296 | K16: 2704.2042 | L16: 67.605105 | M16: 102.7404 | N16: -1405.4118 | O16: 35.135295 | Q16: 0 | R16: 0.16991738 | S16: 0.10328086 | T16: 0.081134089 | U16: 1.4007679 | V16: 3.9363085 | W16: 3.9494391
A17: 45 | B17: 215.7 | C17: 3698 | D17: 82.17 | E17: 127.5 | F17: -2042 | G17: 45.38 | I17: 45 | J17: 214.0088 | K17: 3690.8788 | L17: 82.019529 | M17: 125.93831 | N17: -1976.3453 | O17: 43.918785 | Q17: 0 | R17: 0.78405205 | S17: 0.19256828 | T17: 0.18312103 | U17: 1.2248516 | V17: 3.2152149 | W17: 3.2199543
A18: 50 | B18: 250.4 | C18: 4863 | D18: 97.26 | E18: 152.1 | F18: -2741 | G18: 54.82 | I18: 50 | J18: 250.30566 | K18: 4853.0238 | L18: 97.060477 | M18: 150.38415 | N18: -2666.1838 | O18: 53.323676 | Q18: 0 | R18: 0.03767515 | S18: 0.20514437 | T18: 0.20514437 | U18: 1.1281045 | V18: 2.7295213 | W18: 2.7295213
A19: 55 | B19: 284.3 | C19: 6200 | D19: 112.7 | E19: 177.5 | F19: -3564 | G19: 64.81 | I19: 55 | J19: 284.45468 | K19: 6189.6565 | L19: 112.53921 | M19: 175.82694 | N19: -3480.8252 | O19: 63.28773 | Q19: 0 | R19: -0.054406879 | S19: 0.16683134 | T19: 0.14267231 | U19: 0.94256985 | V19: 2.3337497 | W19: 2.3488193
A20: 60 | B20: 317.5 | C20: 7705 | D20: 128.4 | E20: 203.7 | F20: -4517 | G20: 75.29 | I20: 60 | J20: 317.45588 | K20: 7694.3495 | L20: 128.23916 | M20: 201.98284 | N20: -4424.6209 | O20: 73.743682 | Q20: 0 | R20: 0.01389617 | S20: 0.1382287 | T20: 0.12526637 | U20: 0.84298472 | V20: 2.0451422 | W20: 2.0538157
A21: 65 | B21: 350.2 | C21: 9374 | D21: 144.2 | E21: 230.4 | F21: -5602 | G21: 86.19 | I21: 65 | J21: 350.02732 | K21: 9362.9425 | L21: 144.04527 | M21: 228.67144 | N21: -5500.7011 | O21: 84.62617 | Q21: 0 | R21: 0.049309204 | S21: 0.11795896 | T21: 0.1073026 | U21: 0.75024314 | V21: 1.8082638 | W21: 1.8143983
... A27: 95 | B27: 527.4 | C27: 22650 | D27: 238.4 | E27: 396.2 | F27: -14990 | G27: 157.8 | I27: 95 | J27: 526.83081 | K27: 22625.497 | L27: 238.16312 | M27: 394.32447 | N27: -14835.328 | O27: 156.16135 | Q27: 0 | R27: 0.10792287 | S27: 0.10818302 | T27: 0.099361768 | U27: 0.4733794 | V27: 1.0318333 | W27: 1.0384352
A28: 96 | B28: 532.6 | C28: 23180 | D28: 241.4 | E28: 401.7 | F28: -15390 | G28: 160.3
A29: *** reached the upper limit of function: fit 2
A30: 96 | B30: 532.9 | C30: 23180 | D30: 241.4 | E30: 401.7 | F30: -15390 | G30: 160.3
A31: 100 | B31: 555 | C31: 25350 | D31: 253.5 | E31: 423.9 | F31: -17040 | G31: 170.4 | I31: 100 | J31: 554.25855 | K31: 25328.22 | L31: 253.2822 | M31: 422.0449 | N31: -16876.27 | O31: 168.7627 | Q31: 0 | R31: 0.13359526 | S31: 0.085917359 | T31: 0.085917359 | U31: 0.43762602 | V31: 0.96085458 | W31: 0.96085458
A32: 110 | B32: 608.9 | C32: 31170 | D32: 283.4 | E32: 479.4 | F32: -21560 | G32: 196 | I32: 110 | J32: 608.83882 | K32: 31151.01 | L32: 283.191 | M32: 477.50205 | N32: -21374.216 | O32: 194.31105 | Q32: 0 | R32: 0.010046963 | S32: 0.06092515 | T32: 0.073748538 | U32: 0.39590079 | V32: 0.86170665 | W32: 0.86170665
A33: 120 | B33: 660.3 | C33: 37520 | D33: 312.7 | E33: 534.6 | F33: -26630 | G33: 221.9 | I33: 120 | J33: 659.70373 | K33: 37494.094 | L33: 312.45079 | M33: 532.66676 | N33: -26425.916 | O33: 220.21597 | Q33: 0 | R33: 0.090302528 | S33: 0.069044514 | T33: 0.079696998 | U33: 0.36162416 | V33: 0.76636737 | W33: 0.75891405
A34: 130 | B34: 709.9 | C34: 44370 | D34: 341.3 | E34: 589.4 | F34: -32250 | G34: 248 | I34: 130 | J34: 711.06254 | K34: 44347.926 | L34: 341.13789 | M34: 587.50297 | N34: -32027.46 | O34: 246.36508 | Q34: 0 | R34: -0.1637613 | S34: 0.049750129 | T34: 0.047497425 | U34: 0.32185748 | V34: 0.69004498 | W34: 0.65924164
A35: 140 | B35: 758.5 | C35: 51720 | D35: 369.4 | E35: 643.8 | F35: -38410 | G35: 274.4 | I35: 140 | J35: 758.2914 | K35: 51687.517 | L35: 369.19655 | M35: 641.87785 | N35: -38175.382 | O35: 272.6813 | Q35: 0 | R35: 0.027502197 | S35: 0.062805138 | T35: 0.055075445 | U35: 0.29856315 | V35: 0.61082562 | W35: 0.62634871
A36: 150 | B36: 806.9 | C36: 59540 | D36: 397 | E36: 697.8 | F36: -45120 | G36: 300.8 | I36: 150 | J36: 806.49145 | K36: 59511.149 | L36: 396.74099 | M36: 695.8388 | N36: -44864.671 | O36: 299.09781 | Q36: 0 | R36: 0.050631436 | S36: 0.048456828 | T36: 0.065241302 | U36: 0.28105515 | V36: 0.56588926 | W36: 0.56588926
A37: 160 | B37: 855.4 | C37: 67850 | D37: 424.1 | E37: 751.4 | F37: -52370 | G37: 327.3 | I37: 160 | J37: 854.49491 | K37: 67810.347 | L37: 423.81467 | M37: 749.38477 | N37: -52091.217 | O37: 325.57011 | Q37: 0 | R37: 0.10580956 | S37: 0.058442159 | T37: 0.067279246 | U37: 0.26819607 | V37: 0.53233348 | W37: 0.52853468
A38: 170 | B38: 903.8 | C38: 76650 | D38: 450.9 | E38: 804.7 | F38: -60150 | G38: 353.8 | I38: 170 | J38: 904.95331 | K38: 76611.591 | L38: 450.65642 | M38: 802.72698 | N38: -59851.995 | O38: 352.07056 | Q38: 0 | R38: -0.12760681 | S38: 0.050109281 | T38: 0.054021061 | U38: 0.24518747 | V38: 0.49543682 | W38: 0.48881929
A39: 180 | B39: 951.6 | C39: 85930 | D39: 477.4 | E39: 857.7 | F39: -68460 | G39: 380.3 | I39: 180 | J39: 951.69942 | K39: 85894.855 | L39: 477.19364 | M39: 855.77935 | N39: -68145.427 | O39: 378.58571 | Q39: 0 | R39: -0.010447387 | S39: 0.040899715 | T39: 0.043226185 | U39: 0.22393084 | V39: 0.45949861 | W39: 0.45077387
A40: 190 | B40: 998.5 | C40: 95680 | D40: 503.6 | E40: 910.4 | F40: -77300 | G40: 406.8 | I40: 190 | J40: 997.71326 | K40: 95644.21 | L40: 503.39058 | M40: 908.48172 | N40: -76967.316 | O40: 405.09114 | Q40: 0 | R40: 0.078792201 | S40: 0.037405946 | T40: 0.04158481 | U40: 0.21070784 | V40: 0.43038031 | W40: 0.42007449
A41: 200 | B41: 1044 | C41: 105900 | D41: 529.5 | E41: 962.8 | F41: -86670 | G41: 433.3 | I41: 200 | J41: 1042.5778 | K41: 105847.3 | L41: 529.23648 | M41: 960.80883 | N41: -86314.469 | O41: 431.57235 | Q41: 0 | R41: 0.13622866 | S41: 0.049767573 | T41: 0.049767573 | U41: 0.20681073 | V41: 0.41021217 | W41: 0.39872015
A42: 210 | B42: 1088 | C42: 116600 | D42: 555 | E42: 1015 | F42: -96550 | G42: 459.8 | I42: 210 | J42: 1086.5273 | K42: 116492.82 | L42: 554.72772 | M42: 1012.743 | N42: -96183.202 | O42: 458.01525 | Q42: 0 | R42: 0.13535935 | S42: 0.09191985 | T42: 0.04905924 | U42: 0.22236769 | V42: 0.3799049 | W42: 0.3881586
... A53: 300 | B53: 1474 | C53: 231800 | D53: 772.7 | E53: 1468 | F53: -208400 | G53: 694.8 | I53: 300 | J53: 1484.5508 | K53: 231898.12 | L53: 772.99373 | M53: 1465.9537 | N53: -207887.98 | O53: 692.95992 | Q53: 0 | R53: -0.71579108 | S53: -0.042328951 | T53: -0.038013247 | U53: 0.13939699 | V53: 0.24569235 | W53: 0.26483537

Sheet S-6 sigdig
A1: with 6 significant digits
A2: FUNCTION FIT | I2: CRUDE FIT
A3: T | B3: Cp | C3: H | D3: dH/T | E3: S | F3: G | G3: '-G/T | I3: T | J3: Cp | K3: H | L3: dH/T | M3: S | N3: G | O3: '-G/T | Q3: deltaK | R3: deltaCp | S3: deltaH | T3: deltadH/T | U3: deltaS | V3: deltaG | W3: delta(-G/T)
A4: K | B4: J/K | C4: J | D4: J/K | E4: J/K | F4: J | G4: J/K | I4: K | J4: J/K | K4: J | L4: J/K | M4: J/K | N4: J | O4: J/K | Q4: % | R4: % | S4: % | T4: % | U4: % | V4: % | W4: %
A5: 0 | B5: 0 | C5: 0 | D5: NaN | E5: 0 | F5: 0 | G5: NaN | I5: 0 | J5: 0 | K5: 0 | L5: NaN | M5: 0 | N5: 0 | O5: NaN
A6: 5 | B6: 1.14926 | C6: 3.5051 | D6: 0.70102 | E6: 2.35126 | F6: -8.2512 | G6: 1.65024 | I6: 5 | J6: 1.1912258 | K6: 2.9037014 | L6: 0.58074028 | M6: 1.0100484 | N6: -2.1465407 | O6: 0.42930814 | Q6: 0 | R6: -3.6515486 | S6: 17.157816 | T6: 17.157816 | U6: 57.042249 | V6: 73.985109 | W6: 73.985109
A7: 9.5 | B7: 11.7386 | C7: 27.5847 | D7: 2.90365 | E7: 5.4309 | F7: -24.0089 | G7: 2.52725
A8: *** reached the upper limit of function: fit 1
A9: 9.5 | B9: 11.7315 | C9: 27.5847 | D9: 2.90365 | E9: 5.4309 | F9: -24.0089 | G9: 2.52725
A10: 10 | B10: 13.5537 | C10: 33.9026 | D10: 3.39026 | E10: 6.07864 | F10: -26.8837 | G10: 2.68837 | I10: 10 | J10: 13.715816 | K10: 33.310295 | L10: 3.3310295 | M10: 4.7262363 | N10: -13.952067 | O10: 1.3952067 | Q10: 0 | R10: -1.1960994 | S10: 1.7470772 | T10: 1.7470772 | U10: 22.248459 | V10: 48.102132 | W10: 48.102132
A11: 15 | B11: 34.6649 | C11: 152.781 | D11: 10.1854 | E11: 15.43 | F11: -78.6692 | G11: 5.24462 | I11: 15 | J11: 34.526778 | K11: 153.37262 | L11: 10.224841 | M11: 14.160746 | N11: -59.038576 | O11: 3.9359051 | Q11: 0 | R11: 0.39844996 | S11: -0.38723209 | T11: -0.38723209 | U11: 8.2258831 | V11: 24.953379 | W11: 24.953474
A12: 20 | B12: 58.5148 | C12: 384.832 | D12: 19.2416 | E12: 28.6173 | F12: -187.514 | G12: 9.37571 | I12: 20 | J12: 58.018651 | K12: 383.22755 | L12: 19.161377 | M12: 27.214482 | N12: -161.06209 | O12: 8.0531045 | Q12: 0 | R12: 0.8479033 | S12: 0.41692343 | T12: 0.41692343 | U12: 4.9019937 | V12: 14.106632 | W12: 14.106724
A13: 25 | B13: 84.8316 | C13: 742.013 | D13: 29.6805 | E13: 44.4489 | F13: -369.209 | G13: 14.7683 | I13: 25 | J13: 85.49557 | K13: 739.44912 | L13: 29.577965 | M13: 42.987406 | N13: -335.23602 | O13: 13.409441 | Q13: 0 | R13: -0.78269205 | S13: 0.34553005 | T13: 0.3454629 | U13: 3.2880327 | V13: 9.2015582 | W13: 9.2011893
A14: 30 | B14: 114.216 | C14: 1238.31 | D14: 41.2771 | E14: 62.4648 | F14: -635.631 | G14: 21.1877 | I14: 30 | J14: 114.04216 | K14: 1233.6954 | L14: 41.12318 | M14: 60.914993 | N14: -593.7544 | O14: 19.791813 | Q14: 0 | R14: 0.15220093 | S14: 0.37265364 | T14: 0.37289501 | U14: 2.4810884 | V14: 6.5881934 | W14: 6.5881934
A15: 35 | B15: 146.502 | C15: 1889.06 | D15: 53.973 | E15: 82.4634 | F15: -997.162 | G15: 28.4903 | I15: 35 | J15: 147.30651 | K15: 1887.1386 | L15: 53.918247 | M15: 80.982079 | N15: -947.23411 | O15: 27.063832 | Q15: 0 | R15: -0.54914801 | S15: 0.10170991 | T15: 0.10144549 | U15: 1.7963381 | V15: 5.0069989 | W15: 5.006856
A16: 40 | B16: 180.729 | C16: 2706.58 | D16: 67.6646 | E16: 104.246 | F16: -1463.24 | G16: 36.581 | I16: 40 | J16: 180.39296 | K16: 2704.2042 | L16: 67.605105 | M16: 102.7404 | N16: -1405.4118 | O16: 35.135295 | Q16: 0 | R16: 0.18593624 | S16: 0.087779152 | T16: 0.08792681 | U16: 1.4442762 | V16: 3.9520648 | W16: 3.9520648
A17: 45 | B17: 215.672 | C17: 3697.53 | D17: 82.1672 | E17: 127.548 | F17: -2042.15 | G17: 45.3812 | I17: 45 | J17: 214.0088 | K17: 3690.8788 | L17: 82.019529 | M17: 125.93831 | N17: -1976.3453 | O17: 43.918785 | Q17: 0 | R17: 0.77117116 | S17: 0.17988157 | T17: 0.17971959 | U17: 1.2620236 | V17: 3.2223239 | W17: 3.2225135
A18: 50 | B18: 250.358 | C18: 4862.85 | D18: 97.2569 | E18: 152.072 | F18: -2740.76 | G18: 54.8152 | I18: 50 | J18: 250.30566 | K18: 4853.0238 | L18: 97.060477 | M18: 150.38415 | N18: -2666.1838 | O18: 53.323676 | Q18: 0 | R18: 0.020905494 | S18: 0.20206608 | T18: 0.20196347 | U18: 1.1098999 | V18: 2.7210036 | W18: 2.7210036
A19: 55 | B19: 284.312 | C19: 6199.86 | D19: 112.725 | E19: 177.533 | F19: -3564.43 | G19: 64.8079 | I19: 55 | J19: 284.45468 | K19: 6189.6565 | L19: 112.53921 | M19: 175.82694 | N19: -3480.8252 | O19: 63.28773 | Q19: 0 | R19: -0.050183867 | S19: 0.16457699 | T19: 0.16481853 | U19: 0.96098273 | V19: 2.3455318 | W19: 2.3456551
A20: 60 | B20: 317.515 | C20: 7704.7 | D20: 128.412 | E20: 203.699 | F20: -4517.26 | G20: 75.2876 | I20: 60 | J20: 317.45588 | K20: 7694.3495 | L20: 128.23916 | M20: 201.98284 | N20: -4424.6209 | O20: 73.743682 | Q20: 0 | R20: 0.0186197 | S20: 0.13434035 | T20: 0.13459958 | U20: 0.84249794 | V20: 2.0507802 | W20: 2.0506934
A21: 65 | B21: 350.15 | C21: 9374.06 | D21: 144.216 | E21: 230.406 | F21: -5602.32 | G21: 86.1896 | I21: 65 | J21: 350.02732 | K21: 9362.9425 | L21: 144.04527 | M21: 228.67144 | N21: -5500.7011 | O21: 84.62617 | Q21: 0 | R21: 0.035036651 | S21: 0.11859827 | T21: 0.11838516 | U21: 0.75282771 | V21: 1.8138725 | W21: 1.8139426
... A27: 95 | B27: 527.352 | C27: 22647 | D27: 238.389 | E27: 396.167 | F27: -14988.9 | G27: 157.778 | I27: 95 | J27: 526.83081 | K27: 22625.497 | L27: 238.16312 | M27: 394.32447 | N27: -14835.328 | O27: 156.16135 | Q27: 0 | R27: 0.098830611 | S27: 0.09495056 | T27: 0.094752046 | U27: 0.46508901 | V27: 1.0245703 | W27: 1.0246363
A28: 96 | B28: 532.559 | C28: 23176.9 | D28: 241.426 | E28: 401.717 | F28: -15387.9 | G28: 160.29
A29: *** reached the upper limit of function: fit 2
A30: 96 | B30: 532.879 | C30: 23176.9 | D30: 241.426 | E30: 401.717 | F30: -15387.9 | G30: 160.29
A31: 100 | B31: 554.993 | C31: 25352.7 | D31: 253.527 | E31: 423.919 | F31: -17039.2 | G31: 170.392 | I31: 100 | J31: 554.25855 | K31: 25328.22 | L31: 253.2822 | M31: 422.0449 | N31: -16876.27 | O31: 168.7627 | Q31: 0 | R31: 0.13233567 | S31: 0.096557962 | T31: 0.096557962 | U31: 0.4420884 | V31: 0.95620464 | W31: 0.95620464
A32: 110 | B32: 608.875 | C32: 31174.1 | D32: 283.4 | E32: 479.361 | F32: -21555.7 | G32: 195.961 | I32: 110 | J32: 608.83882 | K32: 31151.01 | L32: 283.191 | M32: 477.50205 | N32: -21374.216 | O32: 194.31105 | Q32: 0 | R32: 0.0059414429 | S32: 0.07406908 | T32: 0.073748538 | U32: 0.38779717 | V32: 0.84193023 | W32: 0.84197623
A33: 120 | B33: 660.306 | C33: 37521.9 | D33: 312.682 | E33: 534.562 | F33: -26625.6 | G33: 221.88 | I33: 120 | J33: 659.70373 | K33: 37494.094 | L33: 312.45079 | M33: 532.66676 | N33: -26425.916 | O33: 220.21597 | Q33: 0 | R33: 0.091210377 | S33: 0.074104727 | T33: 0.073944939 | U33: 0.35454125 | V33: 0.74996857 | W33: 0.74996857
A34: 130 | B34: 709.863 | C34: 44373.9 | D34: 341.338 | E34: 589.381 | F34: -32245.6 | G34: 248.043 | I34: 130 | J34: 711.06254 | K34: 44347.926 | L34: 341.13789 | M34: 587.50297 | N34: -32027.46 | O34: 246.36508 | Q34: 0 | R34: -0.1689821 | S34: 0.058534707 | T34: 0.058624797 | U34: 0.31864413 | V34: 0.67649386 | W34: 0.67646306
A35: 140 | B35: 758.499 | C35: 51716.1 | D35: 369.401 | E35: 643.77 | F35: -38411.7 | G35: 274.37 | I35: 140 | J35: 758.2914 | K35: 51687.517 | L35: 369.19655 | M35: 641.87785 | N35: -38175.382 | O35: 272.6813 | Q35: 0 | R35: 0.027370394 | S35: 0.055268702 | T35: 0.055346005 | U35: 0.29391701 | V35: 0.61522432 | W35: 0.61548306
A36: 150 | B36: 806.933 | C36: 59543.2 | D36: 396.955 | E36: 697.753 | F36: -45119.7 | G36: 300.798 | I36: 150 | J36: 806.49145 | K36: 59511.149 | L36: 396.74099 | M36: 695.8388 | N36: -44864.671 | O36: 299.09781 | Q36: 0 | R36: 0.054718925 | S36: 0.053828474 | T36: 0.053912401 | U36: 0.27433818 | V36: 0.56522812 | W36: 0.56522812
A37: 160 | B37: 855.425 | C37: 67855 | D37: 424.094 | E37: 751.379 | F37: -52365.6 | G37: 327.285 | I37: 160 | J37: 854.49491 | K37: 67810.347 | L37: 423.81467 | M37: 749.38477 | N37: -52091.217 | O37: 325.57011 | Q37: 0 | R37: 0.10872899 | S37: 0.065806507 | T37: 0.065865417 | U37: 0.26540871 | V37: 0.52397574 | W37: 0.52397574
A38: 170 | B38: 903.806 | C38: 76651.4 | D38: 450.891 | E38: 804.692 | F38: -60146.2 | G38: 353.801 | I38: 170 | J38: 904.95331 | K38: 76611.591 | L38: 450.65642 | M38: 802.72698 | N38: -59851.995 | O38: 352.07056 | Q38: 0 | R38: -0.1269421 | S38: 0.051934816 | T38: 0.052026091 | U38: 0.24419574 | V38: 0.48915019 | W38: 0.48910055
A39: 180 | B39: 951.645 | C39: 85929.3 | D39: 477.385 | E39: 857.71 | F39: -68458.5 | G39: 380.325 | I39: 180 | J39: 951.69942 | K39: 85894.855 | L39: 477.19364 | M39: 855.77935 | N39: -68145.427 | O39: 378.58571 | Q39: 0 | R39: -0.0057182387 | S39: 0.040085425 | T39: 0.040085425 | U39: 0.22509413 | V39: 0.45731757 | W39: 0.45731757
A40: 190 | B40: 998.466 | C40: 95680.9 | D40: 503.584 | E40: 910.422 | F40: -77299.4 | G40: 406.839 | I40: 190 | J40: 997.71326 | K40: 95644.21 | L40: 503.39058 | M40: 908.48172 | N40: -76967.316 | O40: 405.09114 | Q40: 0 | R40: 0.075389661 | S40: 0.038346221 | T40: 0.038408905 | U40: 0.21311921 | V40: 0.42960744 | W40: 0.42962033
A41: 200 | B41: 1043.95 | C41: 105894 | D41: 529.471 | E41: 962.8 | F41: -86665.8 | G41: 433.329 | I41: 200 | J41: 1042.5778 | K41: 105847.3 | L41: 529.23648 | M41: 960.80883 | N41: -86314.469 | O41: 431.57235 | Q41: 0 | R41: 0.13144568 | S41: 0.04410435 | T41: 0.044293134 | U41: 0.20681073 | V41: 0.40538584 | W41: 0.40538584
A42: 210 | B42: 1088.04 | C42: 116555 | D42: 555.025 | E42: 1014.81 | F42: -96554.1 | G42: 459.782 | I42: 210 | J42: 1086.5273 | K42: 116492.82 | L42: 554.72772 | M42: 1012.743 | N42: -96183.202 | O42: 458.01525 | Q42: 0 | R42: 0.13903071 | S42: 0.053346956 | T42: 0.053561332 | U42: 0.2036866 | V42: 0.38413509 | W42: 0.3842589
... A53: 300 | B53: 1473.91 | C53: 231821 | D53: 772.735 | E53: 1467.52 | F53: -208436 | G53: 694.786 | I53: 300 | J53: 1484.5508 | K53: 231898.12 | L53: 772.99373 | M53: 1465.9537 | N53: -207887.98 | O53: 692.95992 | Q53: 0 | R53: -0.721941 | S53: -0.033266403 | T53: -0.033482159 | U53: 0.10673434 | V53: 0.2629214 | W53: 0.2628257

Sheet H
A1: Säurelösungskalorimeter | B1: 42516 | C1: 42516 | D1: 42516 | E1: 42517 | F1: 42517 | G1: 42536 | H1: 42536 | I1: 42537 | J1: 42542 | K1: 42542 | L1: 42543 | M1: 42543 | N1: 42543
A2: DropID | B2: Ferri-Cop_1 | C2: Ferri-Cop_2 | D2: Ferri-Cop_3 | E2: Ferri-Cop_1 | F2: Ferri-Cop_2 | G2: Ferri-Cop_1 | H2: Ferri-Cop_2 | I2: Ferri-Cop_1 | J2: Ferri-Cop_1 | K2: Ferri-Cop_2 | L2: Ferri-Cop_1 | M2: Ferri-Cop_2 | N2: Ferri-Cop_3
A3: Masse Pellet [mg] | B3: 10.386 | C3: 9.208 | D3: 10.292 | E3: 10.684 | F3: 9.746 | G3: 10.26 | H3: 10.66 | I3: 9.912 | J3: 9.888 | K3: 10.194 | L3: 9.756 | M3: 10.714 | N3: 9.704
A4: Raumtemp [°C] | B4: 24.7 | C4: 24.7 | D4: 24.7 | E4: 24.7 | F4: 24.7 | G4: 24.6 | H4: 24.7 | I4: 24.7 | J4: 24.7 | K4: 24.7 | L4: 24.7 | M4: 24.7 | N4: 24.7
A5: Kalorimetertemp [°C] | B5: 25 | C5: 25 | D5: 25 | E5: 25 | F5: 25 | G5: 25 | H5: 25 | I5: 25 | J5: 25 | K5: 25 | L5: 25 | M5: 25 | N5: 25
A6: Molengewicht [g/mol] | B6: 1231.3059 | C6: =$B$6 -> 1231.3059 | D6: =$B$6 -> 1231.3059 | E6: =$B$6 -> 1231.3059 | F6: =$B$6 -> 1231.3059 | G6: =$B$6 -> 1231.3059 | H6: =$B$6 -> 1231.3059 | I6: =$B$6 -> 1231.3059 | J6: =$B$6 -> 1231.3059 | ... N6: =$B$6 -> 1231.3059
A7: Mol Probe | B7: 8.4349471e-06 | C7: 7.4782393e-06 | D7: 8.3586054e-06 | E7: 8.6769666e-06 | F7: 7.9151738e-06 | G7: 8.3326167e-06 | H7: 8.6574751e-06 | I7: 8.04999e-06 | J7: 8.0304985e-06 | K7: 8.2790151e-06 | L7: 7.9232952e-06 | M7: 8.701331e-06 | N7: 7.8810636e-06
A8: Wärmekapazität Raumtemp [kJ/mol] | B8: -512.60925 | C8: -512.60925 | D8: -512.60925 | E8: -512.60925 | F8: -512.60925 | G8: -512.61714 | H8: -512.60925 | I8: -512.60925 | J8: -512.60925 | K8: -512.60925 | L8: -512.60925 | M8: -512.60925 | N8: -512.60925
A9: Wärmekapazität Kalorimeter [kJ/mol] | B9: -512.58556 | C9: -512.58556 | D9: -512.58556 | E9: -512.58556 | F9: -512.58556 | G9: -512.58556 | H9: -512.58556 | I9: -512.58556 | J9: -512.58556 | K9: -512.58556 | L9: -512.58556 | M9: -512.58556 | N9: -512.58556
A10: Absolute Wärmeinhalt [J/Pellet] | B10: 0.00019986247 | C10: 0.00017719369 | D10: 0.00019805359 | E10: 0.00020559702 | F10: 0.00018754666 | G10: 0.00026321414 | H10: 0.00020513518 | I10: 0.00019074108 | J10: 0.00019027923 | K10: 0.00019616773 | L10: 0.0001877391 | M10: 0.00020617432 | N10: 0.00018673844
A11: t0 | B11: 0 | C11: 0 | D11: 0 | E11: 0 | F11: 0 | G11: 0 | H11: 0 | I11: 0 | J11: 0 | K11: 0 | L11: 0 | M11: 0 | N11: 0
A12: t1 | B12: 30 | C12: 30 | D12: 30 | E12: 30 | F12: 30 | G12: 30 | H12: 30 | I12: 30 | J12: 30 | K12: 30 | L12: 30 | M12: 30 | N12: 30
A13: t2 | B13: 90 | C13: 91 | D13: 88 | E13: 90 | F13: 84 | G13: 81 | H13: 91 | I13: 86 | J13: 83 | K13: 87 | L13: 90 | M13: 93 | N13: 97
A14: Dauer | B14: 60 | C14: 61 | D14: 58 | E14: 60 | F14: 54 | G14: 51 | H14: 61 | I14: 56 | J14: 53 | K14: 57 | L14: 60 | M14: 63 | N14: 67
A15: t3 | B15: 120 | C15: 121 | D15: 118 | E15: 120 | F15: 114 | G15: 111 | H15: 121 | I15: 116 | J15: 113 | K15: 117 | L15: 120 | M15: 123 | N15: 127
A16: t Baseline return | B16: 30 | C16: 30 | D16: 30 | E16: 30 | F16: 30 | G16: 30 | H16: 30 | I16: 30 | J16: 30 | K16: 30 | L16: 30 | M16: 30 | N16: 30
A17: V(0) | B17: 0 | C17: 0 | D17: 0 | E17: 0 | F17: 0 | G17: 0 | H17: 0 | I17: 0 | J17: 0 | K17: 0 | L17: 0 | M17: 0 | N17: 0
A18: V(0+t1) | B18: -0.082208333 | C18: 0.4345625 | D18: 2.0257422 | E18: 1.41375 | F18: -0.26366667 | G18: -0.13882292 | H18: -1.2751667 | I18: 1.6090104 | J18: 0.64641667 | K18: 0.71617708 | L18: 2.0938125 | M18: 1.2787812 | N18: 0.13573958
... A24: Absolute Counts | B24: 468.07308 | C24: 414.60297 | D24: 455.23527 | E24: 477.8235 | F24: 432.37419 | G24: 456.96052 | H24: 479.49742 | I24: 443.38841 | J24: 441.27184 | K24: 452.83952 | L24: 445.61394 | M24: 478.96255 | N24: 433.00588
A26: Kalibrationsfaktor | B26: 0.0012625285 | C26: =$B$26 -> 0.0012625285 | D26: =$B$26 -> 0.0012625285 | E26: =$B$26 -> 0.0012625285 | F26: =$B$26 -> 0.0012625285 | G26: =$B$26 -> 0.0012625285 | H26: =$B$26 -> 0.0012625285 | I26: =$B$26 -> 0.0012625285 | J26: =$B$26 -> 0.0012625285 | ... N26: =$B$26 -> 0.0012625285
A27: dH [J] | B27: 0.59095561 | C27: 0.52344807 | D27: 0.57474751 | E27: 0.60326579 | F27: 0.54588474 | G27: 0.57692569 | H27: 0.60537916 | I27: 0.55979051 | J27: 0.55711827 | K27: 0.5717228 | L27: 0.5626003 | M27: 0.60470387 | N27: 0.54668226
A28: dH [kJ/g] | B28: 0.05689925 | C28: 0.056847097 | D28: 0.055844103 | E28: 0.056464413 | F28: 0.056011157 | G28: 0.056230574 | H28: 0.05678979 | I28: 0.05647604 | J28: 0.056342867 | K28: 0.056084246 | L28: 0.057667107 | M28: 0.056440533 | N28: 0.056335765
A29: dH [kJ/mol] | B29: 70.060381 | C29: 69.996165 | D29: 68.761172 | E29: 69.524964 | F29: 68.966868 | G29: 69.237036 | H29: 69.925602 | I29: 69.53928 | J29: 69.375304 | K29: 69.056862 | L29: 71.005848 | M29: 69.49556 | N29: 69.366559
B31: =AVERAGE(B29:N29) -> 69.562431
B32: =2*STDEV(B29:N29)/SQRT(B33) -> 0.32381595
B33: 13

Sheet Davis
A1: acid-solution calorimetry of ferricopiapite in Davis in 2002 | H1: see file Fe sulfates calorimetry.xls
A3: copiapite, acid solution calorimetry (3 mg of periclase added to the acid)
A4: 5.0 N HCl, 298 K | Q4: calculated DfHo for ideal composition
Q5: -11740.789 | R5: 9.0792895
C6: 1 | D6: 2 | E6: 3 | F6: 4 | G6: 5
A7: integral | C7: 165.577 | D7: 169.532 | E7: 168.724 | F7: 164.074 | G7: 168.824
A8: calibration factor | C8: 5363 | D8: 5363 | E8: 5363 | F8: 5363 | G8: 5363
A9: caloric effect (J) | C9: =C7*C8/1000000 -> 0.88798945 | D9: =D7*D8/1000000 -> 0.90920012 | E9: =E7*E8/1000000 -> 0.90486681 | F9: =F7*F8/1000000 -> 0.87992886 | G9: =G7*G8/1000000 -> 0.90540311
A10: sample weight (mg) | C10: 15.03 | D10: 15.42 | E10: 15.32 | F10: 14.95 | G10: 15.25
A11: H (J/g) | C11: =C9/C10/0.001 -> 59.081134 | D11: =D9/D10/0.001 -> 58.962394 | E11: =E9/E10/0.001 -> 59.064413 | F11: =F9/F10/0.001 -> 58.858118 | G11: =G9/G10/0.001 -> 59.370696
A12: molecular weight | C12: 1231.3118 | D12: 1231.3118 | E12: 1231.3118 | F12: 1231.3118 | G12: 1231.3118
A13: H (kJ/mol) | C13: =C11*C12/1000 -> 72.747296 | D13: =D11*D12/1000 -> 72.601089 | E13: =E11*E12/1000 -> 72.726707 | F13: =F11*F12/1000 -> 72.472693 | G13: =G11*G12/1000 -> 73.103836
C14: Jul 25, 02 | D14: Jul 25, 02 | E14: Jul 26, 02 | F14: Jul 26, 02 | G14: Jul 26, 02
A16: average | B16: =AVERAGE(C13:G13) -> 72.730324
A17: std | B17: =2*STDEV(C13:G13)/SQRT(B19) -> 0.21113403
A18: err | B18: =ABS(100*B17/B16) -> 0.29029711
A19: n | B19: 5

Sheet cycle
B1: enthalpies of solution in 5 N HCl at 298.15 K | E1: reaction # | H1: formation enthalpies
A2: MgO | B2: -149.67554 | C2: 0.59874483 | D2: 9 | E2: 1 | H2: -601.6 | I2: 0.3 | J2: 13
A3: FeOOH·0.162H2O | B3: -46.622247 | C3: 0.12722241 | D3: 12 | E3: 2
A4: FeOOH | B4: =lepido!B5 -> -47.947407 | C4: 0.12722241 | E4: 3 | H4: -549.4 | I4: 1.4 | J4: 14
A5: a-MgSO4 | B5: -53.496122 | C5: 0.47953307 | D5: 7 | E5: 4 | H5: -1288.64 | I5: 1.28 | J5: 15 | K5: Lemire et al. 2019, TDB volume Fe-II
A6: H2O | B6: -0.54 | E6: 5 | H6: -285.83 | I6: 0.04 | J6: 16
A7: enthalpy of water desorption from lepidocrocite | B7: =0.4*0.162*21.8 -> 1.41264 | C7: =0.4*0.162*2.6 -> 0.16848 | E7: 6
A8: KAl(SO4)2·12H2O | B8: 85.335209 | C8: 0.23875135 | E8: 7 | H8: -6062.4486 | I8: 2 | J8: 17
A9: K2SO4 | B9: 37.387597 | C9: 0.19124554 | E9: 8 | H9: -1437.7 | I9: 0.5 | J9: 18
A10: Fe2/3Fe3+4(SO4)6(OH)2 · 20H2O | B10: =H!B31 -> 69.562431 | C10: =H!B32 -> 0.32381595 | E10: 9
A12: 4.667FeOOH + 6MgSO4 + 18.667H2O = Fe4.667(SO4)6(OH)2·20H2O + 6MgO | H12: =(4.66667*B4)+(6*B5)+(18.66667*B6)-B10-(6*B2) -> 273.67934 | I12: =SQRT((4.66667*C4)^2+(6*C5)^2+(18.66667*C6)^2+C10^2+(6*C2)^2) -> 4.6520368
A13: DRH = 4.667DH3 + 6DH4+18.667DH5 - DH9 - 6DH1
A14: 4.667Fe + 6S + 23O2 + 21H2 = Fe4.667(SO4)6(OH)2·20H2O | H14: =(4.66667*B4)+(6*B5)+(18.66667*B6)-B10-(6*B2)+(4.66667*H4)+(6*H5)+(18.66667*H6)-(6*H2) -> -11747.923 | I14: =SQRT((4.66667*C4)^2+(6*C5)^2+(18.66667*C6)^2+C10^2+(6*C2)^2+(4.66667*I4)^2+(6*I5)^2+(18.66667*I6)^2+(6*I2)^2) -> 11.274124
A15: DfH = 4.667DH3 + 6DH4+18.667DH5 - DH9 - 6DH1 + 4.667DH14 + 6DH15 + 18.667DH16 - 6DH13
B17: check reaction
B18: 4.667FeOOH + 6MgSO4 + 18.667H2O = Fe4.667(SO4)6(OH)2·20H2O + 6MgO
C20: Fe | D20: Mg | E20: S | F20: O | G20: H
A21: FeOOH | B21: =-(4+(2/3)) -> -4.6666667 | C21: =B21 -> -4.6666667 | D21: 0 | E21: 0 | F21: =2*B21 -> -9.3333333 | G21: =B21 -> -4.6666667
A22: MgSO4 | B22: -6 | C22: 0 | D22: =B22 -> -6 | E22: =B22 -> -6 | F22: =4*B22 -> -24 | G22: 0
A23: H2O | B23: =-(18+(2/3)) -> -18.666667 | C23: 0 | D23: 0 | E23: 0 | F23: =B23 -> -18.666667 | G23: =2*B23 -> -37.333333
A24: MgO | B24: 6 | C24: 0 | D24: =B24 -> 6 | E24: 0 | F24: =B24 -> 6 | G24: 0
A25: Fe2/3Fe3+4(SO4)6(OH)2 · 20H2O | B25: 1 | C25: =B25*(4+(2/3)) -> 4.6666667 | D25: 0 | E25: =6*B25 -> 6 | F25: =B25*((4*6)+2+20) -> 46 | G25: =B25*(2+(20*2)) -> 42
C26: =SUM(C21:C25) -> 0 | D26: =SUM(D21:D25) -> 0 | E26: =SUM(E21:E25) -> 0 | F26: =SUM(F21:F25) -> 0 | G26: =SUM(G21:G25) -> 0
B28: check reaction
B29: 4.667Fe + 6S + 23O2 + 21H2 = Fe4.667(SO4)6(OH)2·20H2O
C31: Fe | D31: Mg | E31: S | F31: O | G31: H
A32: Fe | B32: =-(4+(2/3)) -> -4.6666667 | C32: =B32 -> -4.6666667 | D32: 0 | E32: 0 | F32: 0 | G32: 0
A33: S | B33: -6 | C33: 0 | D33: 0 | E33: =B33 -> -6 | F33: 0 | G33: 0
A34: H2 | B34: -21 | C34: 0 | D34: 0 | E34: 0 | F34: 0 | G34: =2*B34 -> -42
A35: O2 | B35: -23 | C35: 0 | D35: 0 | E35: 0 | F35: =2*B35 -> -46 | G35: 0
A36: Fe2/3Fe3+4(SO4)6(OH)2 · 20H2O | B36: 1 | C36: =B36*(4+(2/3)) -> 4.6666667 | D36: 0 | E36: =6*B36 -> 6 | F36: =B36*((4*6)+2+20) -> 46 | G36: =B36*(2+(20*2)) -> 42
C37: =SUM(C32:C36) -> 0 | D37: =SUM(D32:D36) -> 0 | E37: =SUM(E32:E36) -> 0 | F37: =SUM(F32:F36) -> 0 | G37: =SUM(G32:G36) -> 0

Sheet lepido
D1: reaction #
A2: FeOOH·0.162H2O + 3H+ = Fe3+ + 2.162H2O(aq) | B2: =cycle!B3 -> -46.622247 | C2: =cycle!C3 -> 0.12722241 | D2: 2 | E2: 1
A3: FeOOH·0.162H2O = FeOOH + 0.162H2O (l) | B3: =cycle!B7 -> 1.41264 | D3: A | E3: -1
A4: H2O (l) = H2O (aq) | B4: =cycle!B6 -> -0.54 | D4: 5 | E4: -0.162
A5: FeOOH + 3H+ = Fe3+ + 2H2O | B5: =(B2*E2)+(B3*E3)+(B4*E4) -> -47.947407

Sheet G
B2: 4.667Fe + 6S + 23O2 + 21H2 = Fe4.667(SO4)6(OH)2·20H2O | K2: So (J K-1 mol-1)
K3: Mg | L3: 32.67 | M3: 0.1 | N3: RH95
G4: estimate, Ogorodova et al. (2021) | K4: Al | L4: 28.3 | M4: 0.08 | N4: RH95
B5: enthalpy of formation | E5: =cycle!H14 -> -11747.923 | F5: =cycle!I14 -> 11.274124 | G5: -11670 | H5: 59 | I5: =G5-E5 -> 77.923449 | K5: Fe | L5: 27.09 | M5: 0.13 | N5: RH95
B6: standard entropy | E6: ='S-6 sigdig'!E52 -> 1458.43 | F6: =0.012*E6 -> 17.50116 | G6: 1371.6 | I6: =100*(E6-G6)/E6 -> 5.9536625 | K6: S | L6: 32.05 | M6: 0.05 | N6: RH95
B7: entropy of formation | E7: =E6-(4.66667*L5)-(6*L6)-(23*L7)-(21*L8) -> -6323.0201 | F7: =SQRT(F6^2+(4.66667*M5)^2+(6*M6)^2+(23*M7)^2+(21*M8)^2) -> 17.525314 | K7: O2 | L7: 205.15 | M7: 0.02 | N7: RH95
B8: Gibbs free energy of formation | E8: =E5-(298.15*E7/1000) -> -9862.715 | F8: =SQRT(F5^2+(298.15*F7/1000)^2) -> 12.426113 | K8: H2 | L8: 130.68 | M8: 0.02 | N8: RH95
B12: Fe4.667(SO4)6(OH)2·20H2O + 2H+ = 4.667Fe+++ + 6SO4-- + 22H2O
I13: DfGo (kJ mol-1) | K13: DfHo (kJ mol-1)
B14: DrGo | C14: =(4.66667*I14)+(6*I16)+(22*I17)-E8 -> 105.88962 | D14: =SQRT((4.66667*J14)^2+(6*J16)^2+(22*J17)^2+F8^2) -> 13.065722 | H14: Fe3+ | I14: -16.226 | J14: 0.65 | K14: -50.056 | L14: 0.973 | M14: Lemire et al. 2013
B15: ln K | C15: =(-C14*1000)/(8.314*298.15) -> -42.717769 | D15: =(D14*1000)/(8.314*298.15) -> 5.270946 | H15: Fe2+ | I15: -90.719 | J15: 0.641 | K15: -90.295 | L15: 0.522 | M15: Lemire et al. 2013
B16: log K | C16: =C15/LN(10) -> -18.552091 | D16: =D15/LN(10) -> 2.2891428 | H16: SO42- | I16: -744.004 | J16: 0.418 | K16: -909.34 | L16: 0.4 | M16: Lemire et al. 2013
B17: DrHo | C17: =(4.66667*K14)+(6*K16)+(22*K17)-E5 -> -229.97138 | D17: =SQRT((4.66667*L14)^2+(6*L16)^2+(22*L17)^2+F5^2) -> 12.420062 | H17: H2O | I17: -237.14 | J17: 0.041 | K17: -285.83 | L17: 0.04 | M17: Lemire et al. 2013
H18: Mg2+ | I18: -455.375 | J18: 1.335 | K18: -467 | L18: 0.6 | M18: Lemire et al. 2013
H19: Al3+ | I19: -491.507 | J19: 3.338 | K19: -538.4 | L19: 1.5 | M19: Lemire et al. 2013
