Workbook

Sheet H
A1: Säurelösungskalorimeter | B1: 42678 | C1: 42682 | D1: 42682 | E1: 42682 | F1: 42683
A2: DropID | B2: Fe2+-Cop | C2: Fe2+-Cop | D2: Fe2+-Cop | E2: Fe2+-Cop | F2: Fe2+-Cop
A3: Masse Pellet [mg] | B3: 6.75 | C3: 9.738 | D3: 11.144 | E3: 10.28 | F3: 8.664
A4: Raumtemp [°C] | B4: 24.7 | C4: 24.7 | D4: 24.7 | E4: 24.7 | F4: 24.7
A5: Kalorimetertemp [°C] | B5: 25 | C5: 25 | D5: 25 | E5: 25 | F5: 25
A6: Molengewicht [g/mol] | B6: 1249.9209 | C6: =$B$6 -> 1249.9209 | D6: =$B$6 -> 1249.9209 | E6: =$B$6 -> 1249.9209 | F6: =$B$6 -> 1249.9209
A7: Mol Probe | B7: 5.4003418e-06 | C7: 7.7908931e-06 | D7: 8.9157643e-06 | E7: 8.2245206e-06 | F7: 6.9316387e-06
A8: Wärmekapazität Raumtemp [kJ/mol] | B8: -512.60925 | C8: -512.60925 | D8: -512.60925 | E8: -512.60925 | F8: -512.60925
A9: Wärmekapazität Kalorimeter [kJ/mol] | B9: -512.58556 | C9: -512.58556 | D9: -512.58556 | E9: -512.58556 | F9: -512.58556
A10: Absolute Wärmeinhalt [J/Pellet] | B10: 0.00012795879 | C10: 0.00018460189 | D10: 0.00021125523 | E10: 0.0001948765 | F10: 0.00016424222
A11: t0 | B11: 0 | C11: 0 | D11: 0 | E11: 0 | F11: 0
A12: t1 | B12: 30 | C12: 30 | D12: 30 | E12: 30 | F12: 30
A13: t2 | B13: 80 | C13: 80 | D13: 88 | E13: 81 | F13: 78
A14: Dauer | B14: 50 | C14: 50 | D14: 58 | E14: 51 | F14: 48
A15: t3 | B15: 110 | C15: 110 | D15: 118 | E15: 111 | F15: 108
A16: t Baseline return | B16: 30 | C16: 30 | D16: 30 | E16: 30 | F16: 30
A17: V(0) | B17: 0 | C17: 0 | D17: 0 | E17: 0 | F17: 0
A18: V(0+t1) | B18: 1.3476979 | C18: 1.1371563 | D18: 0.34427083 | E18: 0.34348958 | F18: 1.5910521
... A24: Absolute Counts | B24: 356.72115 | C24: 522.54386 | D24: 594.15957 | E24: 544.96507 | F24: 450.81298
A26: Kalibrationsfaktor | B26: =#REF! -> #REF! | C26: =#REF! -> #REF! | D26: =#REF! -> #REF! | E26: =#REF! -> #REF! | F26: =#REF! -> #REF!
A27: dH [J] | B27: 0.45037062 | C27: 0.65972652 | D27: 0.75014339 | E27: 0.68803393 | F27: 0.56916424
A28: dH [kJ/g] | B28: 0.066721573 | C28: 0.06774764 | D28: 0.067313657 | E28: 0.066929371 | F28: 0.06569301
A29: dH [kJ/mol] | B29: 83.396688 | C29: 84.67919 | D29: 84.136745 | E29: 83.656418 | F29: 82.111065
B31: =AVERAGE(B29:F29) -> 83.596021
B32: =2*STDEV(B29:F29)/SQRT(B33) -> 0.86187165
B33: 5

Sheet melanterite
A1: Säurelösungskalorimeter | B1: 42668 | C1: 42668 | D1: 42668 | E1: 42669 | F1: 42669 | G1: 42669 | H1: 42670 | I1: 42670 | J1: 42670 | K1: 42670 | L1: 42670 | M1: 42670
A2: DropID | B2: Melanterit_1 | C2: Melanterit_2 | D2: Melanterit_3 | E2: Melanterit_1 | F2: Melanterit_2 | G2: Melanterit_3 | H2: Melanterit_1 | I2: Melanterit_2 | J2: Melanterit_3 | K2: Melanterit_1 | L2: Melanterit_2 | M2: Melanterit_3
A3: Masse Pellet [mg] | B3: 13.362 | C3: 14.67 | D3: 10.644 | E3: 10.824 | F3: 9.866 | G3: 9.702 | H3: 8.98 | I3: 10.922 | J3: 10.506 | K3: 10.684 | L3: 10.218 | M3: 9.86
A4: Raumtemp [°C] | B4: 24.7 | C4: 24.7 | D4: 24.7 | E4: 24.7 | F4: 24.7 | G4: 24.7 | H4: 24.7 | I4: 24.7 | J4: 24.7 | K4: 24.4 | L4: 24.7 | M4: 24.7
A5: Kalorimetertemp [°C] | B5: 25 | C5: 25 | D5: 25 | E5: 25 | F5: 25 | G5: 25 | H5: 25 | I5: 25 | J5: 25 | K5: 25 | L5: 25 | M5: 25
A6: Molengewicht [g/mol] | B6: 281.92371 | C6: =$B$6 -> 281.92371 | D6: =$B$6 -> 281.92371 | E6: =$B$6 -> 281.92371 | F6: =$B$6 -> 281.92371 | G6: =$B$6 -> 281.92371 | H6: =$B$6 -> 281.92371 | I6: =$B$6 -> 281.92371 | J6: =$B$6 -> 281.92371 | ... M6: =$B$6 -> 281.92371
A7: Mol Probe | B7: 4.7395801e-05 | C7: 5.2035354e-05 | D7: 3.7754895e-05 | E7: 3.8393365e-05 | F7: 3.4995283e-05 | G7: 3.4413565e-05 | H7: 3.1852589e-05 | I7: 3.8740977e-05 | J7: 3.7265401e-05 | K7: 3.7896777e-05 | L7: 3.6243848e-05 | M7: 3.4974001e-05
A8: Wärmekapazität Raumtemp [kJ/mol] | B8: -512.60925 | C8: -512.60925 | D8: -512.60925 | E8: -512.60925 | F8: -512.60925 | G8: -512.60925 | H8: -512.60925 | I8: -512.60925 | J8: -512.60925 | K8: -512.63293 | L8: -512.60925 | M8: -512.60925
A9: Wärmekapazität Kalorimeter [kJ/mol] | B9: -512.58556 | C9: -512.58556 | D9: -512.58556 | E9: -512.58556 | F9: -512.58556 | G9: -512.58556 | H9: -512.58556 | I9: -512.58556 | J9: -512.58556 | K9: -512.58556 | L9: -512.58556 | M9: -512.58556
A10: Absolute Wärmeinhalt [J/Pellet] | B10: 0.0011230233 | C10: 0.0012329555 | D10: 0.00089458612 | E10: 0.0009097144 | F10: 0.00082919829 | G10: 0.00081541474 | H10: 0.0007547335 | I10: 0.00091795092 | J10: 0.00088298776 | K10: 0.0017951536 | L10: 0.0008587825 | M10: 0.00082869402
A11: t0 | B11: 0 | C11: 0 | D11: 0 | E11: 0 | F11: 0 | G11: 0 | H11: 0 | I11: 0 | J11: 0 | K11: 0 | L11: 0 | M11: 0
A12: t1 | B12: 30 | C12: 30 | D12: 30 | E12: 30 | F12: 30 | G12: 30 | H12: 30 | I12: 30 | J12: 30 | K12: 30 | L12: 30 | M12: 30
A13: t2 | B13: 76 | C13: 86 | D13: 79 | E13: 76 | F13: 81 | G13: 81 | H13: 79 | I13: 78 | J13: 79 | K13: 71 | L13: 77 | M13: 73
A14: Dauer | B14: 46 | C14: 56 | D14: 49 | E14: 46 | F14: 51 | G14: 51 | H14: 49 | I14: 48 | J14: 49 | K14: 41 | L14: 47 | M14: 43
A15: t3 | B15: 106 | C15: 116 | D15: 109 | E15: 106 | F15: 111 | G15: 111 | H15: 109 | I15: 108 | J15: 109 | K15: 101 | L15: 107 | M15: 103
A16: t Baseline return | B16: 30 | C16: 30 | D16: 30 | E16: 30 | F16: 30 | G16: 30 | H16: 30 | I16: 30 | J16: 30 | K16: 30 | L16: 30 | M16: 30
A17: V(0) | B17: 0 | C17: 0 | D17: 0 | E17: 0 | F17: 0 | G17: 0 | H17: 0 | I17: 0 | J17: 0 | K17: 0 | L17: 0 | M17: 0
A18: V(0+t1) | B18: 1.0133542 | C18: 3.3291042 | D18: 0.26352083 | E18: -1.2635208 | F18: 0.33205208 | G18: -0.5601875 | H18: 0.60120833 | I18: -1.3862396 | J18: 1.2651042 | K18: -0.74015625 | L18: -3.2483229 | M18: -1.5892812
... A24: Absolute Counts | B24: 1852.2494 | C24: 2031.5202 | D24: 1472.659 | E24: 1499.9432 | F24: 1369.5306 | G24: 1344.2905 | H24: 1213.8514 | I24: 1502.9645 | J24: 1455.5035 | K24: 1431.9988 | L24: 1427.6679 | M24: 1364.0865
A26: Kalibrationsfaktor | B26: 0.0012625285 | C26: =$B$26 -> 0.0012625285 | D26: =$B$26 -> 0.0012625285 | E26: =$B$26 -> 0.0012625285 | F26: =$B$26 -> 0.0012625285 | G26: =$B$26 -> 0.0012625285 | H26: =$B$26 -> 0.0012625285 | I26: =$B$26 -> 0.0012625285 | J26: =$B$26 -> 0.0012625285 | ... M26: =$B$26 -> 0.0012625285
A27: dH [J] | B27: 2.3385177 | C27: 2.5648522 | D27: 1.8592739 | E27: 1.893721 | F27: 1.7290714 | G27: 1.697205 | H27: 1.5325219 | I27: 1.8975356 | J27: 1.8376147 | K27: 1.8079393 | L27: 1.8024714 | M27: 1.722198
A28: dH [kJ/g] | B28: 0.17501255 | C28: 0.17483655 | D28: 0.17467812 | E28: 0.17495575 | F28: 0.17525557 | G28: 0.17493352 | H28: 0.17065946 | I28: 0.17373517 | J28: 0.17491097 | K28: 0.16921933 | L28: 0.17640158 | M28: 0.17466511
A29: dH [kJ/mol] | B29: 49.340187 | C29: 49.290568 | D29: 49.245904 | E29: 49.324174 | F29: 49.408699 | G29: 49.317908 | H29: 48.112948 | I29: 48.980064 | J29: 49.31155 | K29: 47.706942 | L29: 49.731789 | M29: 49.242237
B31: =AVERAGE(B29:M29) -> 49.084414
B32: =2*STDEV(B29:M29)/SQRT(B33) -> 0.3347917
B33: 12

Sheet cycle
B1: enthalpies of solution in 5 N HCl at 298.15 K | E1: reaction # | H1: formation enthalpies
A2: MgO | B2: -149.67554 | C2: 0.59874483 | D2: 9 | E2: 1 | H2: -601.6 | I2: 0.3 | J2: 13
A3: FeOOH·0.162H2O | B3: -46.622247 | C3: 0.12722241 | D3: 12 | E3: 2
A4: FeOOH | B4: -47.947407 | C4: 0.12722241 | E4: 3 | H4: -549.4 | I4: 1.4 | J4: 14
A5: a-MgSO4 | B5: -53.496122 | C5: 0.47953307 | D5: 7 | E5: 4 | H5: -1288.64 | I5: 1.28 | J5: 15 | K5: Lemire et al. 2019, TDB volume Fe-II
A6: H2O | B6: -0.54 | E6: 5 | H6: -285.83 | I6: 0.04 | J6: 16 | K6: Lemire et al. 2013
A7: enthalpy of water desorption from lepidocrocite | B7: =0.4*0.162*21.8 -> 1.41264 | C7: =0.4*0.162*2.6 -> 0.16848 | E7: 6
A8: KAl(SO4)2·12H2O | B8: 85.335209 | C8: 0.23875135 | E8: 7 | H8: -6062.4486 | I8: 2 | J8: 17
A9: K2SO4 | B9: 37.387597 | C9: 0.19124554 | E9: 8 | H9: -1437.7 | I9: 0.5 | J9: 18
A10: FeSO4·7H2O | B10: =melanterite!B31 -> 49.084414 | C10: =melanterite!B32 -> 0.3347917 | E10: 19 | H10: -3012.51 | I10: 0.6 | J10: 20 | K10: Lemire et al. 2013
A11: Fe2+Fe3+4(SO4)6(OH)2 · 20H2O | B11: =H!B31 -> 83.596021 | C11: =H!B32 -> 0.86187165 | E11: 12
A13: 4FeOOH + FeSO4.7H2O + 5MgSO4 + 12H2O = FeFe4(SO4)6(OH)2·20H2O + 5MgO | H13: =(4*B4)+B10+(5*B5)+(12*B6)-B11-(5*B2) -> 248.11584 | I13: =SQRT((4*C4)^2+C10+(5*C5)^2+(12*C6)^2+C11+(5*C2)^2) -> 4.0207979
A14: DrH = 4DH3 + DH19 + 5DH4 + 12DH5 - DH12 - 5DH1
A15: 5Fe + 6S + 23O2 + 21H2 = FeFe4(SO4)6(OH)2·20H2O | H15: =(4*B4)+B10+(5*B5)+(12*B6)-B11-(5*B2)+(4*H4)+H10+(5*H5)+(12*H6)-(5*H2) -> -11827.154 | I15: =SQRT((4*C4)^2+C10+(5*C5)^2+(12*C6)^2+C11+(5*C2)^2+(4*I4)^2+I10+(5*I5)^2+(12*I6)^2+(5*I2)^2) -> 9.569076
A16: DfH = 4DH3 + DH19 + 5DH4 + 12DH5 - DH12 - 5DH1 + 4DH14 + DH20 + 5DH15 + 12DH16 - 5DH13
A20: check the reaction | B20: 4FeOOH + FeSO4.7H2O + 5MgSO4 + 12H2O = FeFe4(SO4)6(OH)2·20H2O + 5MgO
C21: Fe | D21: Mg | E21: S | F21: O | G21: H
A22: FeOOH | B22: -4 | C22: =B22 -> -4 | D22: 0 | E22: 0 | F22: =2*B22 -> -8 | G22: =B22 -> -4
A23: FeSO4.7H2O | B23: -1 | C23: =B23 -> -1 | D23: 0 | E23: =B23 -> -1 | F23: =B23*(4+7) -> -11 | G23: =14*B23 -> -14
A24: MgSO4 | B24: -5 | C24: 0 | D24: =B24 -> -5 | E24: =B24 -> -5 | F24: =4*B24 -> -20 | G24: 0
A25: MgO | B25: 5 | C25: 0 | D25: =B25 -> 5 | E25: 0 | F25: =B25 -> 5 | G25: 0
A26: H2O | B26: -12 | C26: 0 | D26: 0 | E26: 0 | F26: =B26 -> -12 | G26: =2*B26 -> -24
A27: Fe2+Fe3+4(SO4)6(OH)2 · 20H2O | B27: 1 | C27: =5*B27 -> 5 | D27: 0 | E27: =6*B27 -> 6 | F27: =B27*(24+2+20) -> 46 | G27: =B27*(2+40) -> 42
C28: =SUM(C22:C27) -> 0 | D28: =SUM(D22:D27) -> 0 | E28: =SUM(E22:E27) -> 0 | F28: =SUM(F22:F27) -> 0 | G28: =SUM(G22:G27) -> 0
A30: check the reaction | B30: 5Fe + 6S + 23O2 + 21H2 = FeFe4(SO4)6(OH)2·20H2O
C31: Fe | D31: S | E31: O | F31: H
A32: Fe | B32: -5 | C32: =B32 -> -5 | D32: 0 | E32: 0 | F32: 0
A33: S | B33: -6 | C33: 0 | D33: =B33 -> -6 | E33: 0 | F33: 0
A34: O2 | B34: -23 | C34: 0 | D34: 0 | E34: =2*B34 -> -46 | F34: 0
A35: H2 | B35: -21 | C35: 0 | D35: 0 | E35: 0 | F35: =2*B35 -> -42
A36: Fe2+Fe3+4(SO4)6(OH)2 · 20H2O | B36: 1 | C36: =5*B36 -> 5 | D36: =6*B36 -> 6 | E36: =B36*(24+2+20) -> 46 | F36: =B36*(2+40) -> 42
C37: =SUM(C32:C36) -> 0 | D37: =SUM(D32:D36) -> 0 | E37: =SUM(E32:E36) -> 0 | F37: =SUM(F32:F36) -> 0

Sheet lepido
D1: reaction #
A2: FeOOH·0.162H2O + 3H+ = Fe3+ + 2.162H2O(aq) | B2: -46.622247 | C2: 0.12722241 | D2: 2 | E2: 1
A3: FeOOH·0.162H2O = FeOOH + 0.162H2O (l) | B3: =cycle!B7 -> 1.41264 | D3: A | E3: -1
A4: H2O (l) = H2O (aq) | B4: -0.54 | D4: 5 | E4: -0.162
A5: FeOOH + 3H+ = Fe3+ + 2H2O | B5: =(B2*E2)+(B3*E3)+(B4*E4) -> -47.947407

Sheet G
B2: 5Fe + 6S + 23O2 + 21H2 = FeFe4(SO4)6(OH)2·20H2O | K2: So (J K-1 mol-1)
K3: Mg | L3: 32.67 | M3: 0.1 | N3: RH95
G4: estimate, Ogorodova et al. (2021) | K4: Al | L4: 28.3 | M4: 0.08 | N4: RH95
B5: enthalpy of formation | E5: =cycle!H15 -> -11827.154 | F5: =cycle!I15 -> 9.569076 | G5: -11807 | H5: +-59 | I5: =G5-E5 -> 20.154157 | K5: Fe | L5: 27.09 | M5: 0.13 | N5: RH95
B6: standard entropy | E6: 1491 | F6: 25 | K6: S | L6: 32.05 | M6: 0.05 | N6: RH95
B7: entropy of formation | E7: =E6-(5*L5)-(6*L6)-(23*L7)-(21*L8) -> -6299.48 | F7: =SQRT(F6^2+(5*M5)^2+(6*M6)^2+(23*M7)^2+(21*M8)^2) -> 25.018004 | K7: O2 | L7: 205.15 | M7: 0.02 | N7: RH95
B8: Gibbs free energy of formation | E8: =E5-(298.15*E7/1000) -> -9948.9642 | F8: =SQRT(F5^2+(298.15*F7/1000)^2) -> 12.132834 | K8: H2 | L8: 130.68 | M8: 0.02 | N8: RH95
B12: FeFe4(SO4)6(OH)2·20H2O + 2H+ = Fe++ + 4Fe+++ + 6SO4-- + 22H2O
I13: DfGo (kJ mol-1) | K13: DfHo (kJ mol-1)
B14: DrGo | C14: =I15+(4*I14)+(6*I16)+(22*I17)-E8 -> 112.23719 | D14: =SQRT(J15^2+(4*J14)^2+(6*J16)^2+(22*J17)^2+F8^2) -> 12.707486 | H14: Fe3+ | I14: -16.226 | J14: 0.65 | K14: -50.056 | L14: 0.973 | M14: Lemire et al. 2013
B15: ln K | C15: =(-C14*1000)/(8.314*298.15) -> -45.278494 | D15: =(D14*1000)/(8.314*298.15) -> 5.1264274 | H15: Fe2+ | I15: -90.719 | J15: 0.641 | K15: -90.295 | L15: 0.522 | M15: Lemire et al. 2013
B16: log K | C16: =C15/LN(10) -> -19.6642 | D16: =D15/LN(10) -> 2.2263791 | H16: SO42- | I16: -744.004 | J16: 0.418 | K16: -909.34 | L16: 0.4 | M16: Lemire et al. 2013
B17: DrHo | C17: =K15+(4*K14)+(6*K16)+(22*K17)-E5 -> -207.66484 | D17: =SQRT(L15^2+(4*L14)^2+(6*L16)^2+(22*L17)^2+F5^2) -> 10.654659 | H17: H2O | I17: -237.14 | J17: 0.041 | K17: -285.83 | L17: 0.04 | M17: Lemire et al. 2013
H18: Mg2+ | I18: -455.375 | J18: 1.335 | K18: -467 | L18: 0.6 | M18: Lemire et al. 2013
H19: Al3+ | I19: -491.507 | J19: 3.338 | K19: -538.4 | L19: 1.5 | M19: Lemire et al. 2013
